BEGIN:VCALENDAR
PRODID:-//ICTPDiploma//ATRoom//EN
VERSION:1.0
BEGIN:VEVENT
DTSTART:20161201T080000Z
DTEND:20161201T093000Z
DCREATED:20160920T090144Z
UID:ATEvent-ccd0640cb60d4387829c3246a41d649e
SEQUENCE:0
LAST-MODIFIED:20160920T090223Z
SUMMARY:CMP-EPS
LOCATION:Lecture Room Euler
PRIORITY:3
TRANSP:0
END:VEVENT
BEGIN:VEVENT
DTSTART:20161128T100000Z
DTEND:20161128T113000Z
DCREATED:20160803T114845Z
UID:ATEvent-53e03c597bf4464db2bae3bef8ac366c
SEQUENCE:0
LAST-MODIFIED:20160803T115610Z
SUMMARY:HEP-PP
LOCATION:Lecture Room Euler
PRIORITY:3
TRANSP:0
END:VEVENT
BEGIN:VEVENT
DTSTART:20161129T100000Z
DTEND:20161129T113000Z
DCREATED:20160803T114845Z
UID:ATEvent-72d7dee61e6044808938c208f8507568
SEQUENCE:0
LAST-MODIFIED:20160803T115630Z
SUMMARY:HEP-PP
LOCATION:Lecture Room Euler
PRIORITY:3
TRANSP:0
END:VEVENT
BEGIN:VEVENT
DTSTART:20161201T100000Z
DTEND:20161201T113000Z
DCREATED:20160920T090238Z
UID:ATEvent-adbf30a2b6894a5b9578318322a6c43d
SEQUENCE:0
LAST-MODIFIED:20160920T090316Z
SUMMARY:EXAM
LOCATION:Lecture Room Euler
PRIORITY:3
TRANSP:0
END:VEVENT
BEGIN:VEVENT
DTSTART:20161202T100000Z
DTEND:20161202T113000Z
DCREATED:20160803T115114Z
UID:ATEvent-a46619d9ebb54ef1bce294b1f8a70208
SEQUENCE:0
LAST-MODIFIED:20161115T110207Z
SUMMARY:HEP-PP
LOCATION:Lecture Room Euler
PRIORITY:3
TRANSP:0
END:VEVENT
BEGIN:VEVENT
DTSTART:20161128T130000Z
DTEND:20161128T143000Z
DCREATED:20160803T114437Z
UID:ATEvent-b2d7faccc776454e8ba1f17ffdca5df1
SEQUENCE:0
LAST-MODIFIED:20160803T114437Z
SUMMARY:HEP-QED
LOCATION:Lecture Room Euler
PRIORITY:3
TRANSP:0
END:VEVENT
BEGIN:VEVENT
DTSTART:20161129T130000Z
DTEND:20161129T143000Z
DCREATED:20160803T114437Z
UID:ATEvent-4017bdee45444437ade7cf8b0ef59061
SEQUENCE:0
LAST-MODIFIED:20160803T114437Z
SUMMARY:HEP-QED
LOCATION:Lecture Room Euler
PRIORITY:3
TRANSP:0
END:VEVENT
BEGIN:VEVENT
DTSTART:20161130T130000Z
DTEND:20161130T143000Z
DCREATED:20160803T114437Z
UID:ATEvent-b11062bb2f3544e1b56c176a825410ef
SEQUENCE:0
LAST-MODIFIED:20160803T114437Z
SUMMARY:HEP-QED
LOCATION:Lecture Room Euler
PRIORITY:3
TRANSP:0
END:VEVENT
BEGIN:VEVENT
DTSTART:20161201T130000Z
DTEND:20161201T143000Z
DCREATED:20160803T114437Z
UID:ATEvent-01b58cd843af403893973f59a0ea8717
SEQUENCE:0
LAST-MODIFIED:20160803T114437Z
SUMMARY:HEP-QED
LOCATION:Lecture Room Euler
PRIORITY:3
TRANSP:0
END:VEVENT
BEGIN:VEVENT
DTSTART:20161202T130000Z
DTEND:20161202T143000Z
DCREATED:20160901T141211Z
UID:ATEvent-80b0794e33f042ac86402555672538ee
SEQUENCE:0
LAST-MODIFIED:20161110T085104Z
SUMMARY:HEP-QED tut.
LOCATION:Lecture Room Euler
PRIORITY:3
TRANSP:0
END:VEVENT
BEGIN:VEVENT
DTSTART:20161201T150000Z
DTEND:20161201T163000Z
DCREATED:20161114T100831Z
UID:ATEvent-bcbfe10103d3442283a09695ffb49eac
SEQUENCE:0
LAST-MODIFIED:20161115T110128Z
SUMMARY:HEP-PP tut.
LOCATION:Lecture Room Euler
PRIORITY:3
TRANSP:0
END:VEVENT
END:VCALENDAR
