BEGIN:VCALENDAR
PRODID:-//ICTPDiploma//ATRoom//EN
VERSION:1.0
BEGIN:VEVENT
DTSTART:20131112T080000Z
DTEND:20131112T093000Z
DCREATED:20131031T100617Z
UID:ATEvent-dde1b20669c54b3c906c36971b0bd759
SEQUENCE:0
LAST-MODIFIED:20131031T100647Z
SUMMARY:HEP-RQM
LOCATION:Lecture Room Euler
PRIORITY:3
TRANSP:0
END:VEVENT
BEGIN:VEVENT
DTSTART:20131111T100000Z
DTEND:20131111T113000Z
DCREATED:20130730T123201Z
UID:ATEvent-9b6875f17b71433b8252bd70fb5ae842
SEQUENCE:0
LAST-MODIFIED:20130730T123201Z
SUMMARY:HEP-PP
LOCATION:Lecture Room Euler
PRIORITY:3
TRANSP:0
END:VEVENT
BEGIN:VEVENT
DTSTART:20131112T100000Z
DTEND:20131112T113000Z
DCREATED:20131031T100651Z
UID:ATEvent-708bef21be644d18803741b61e40ab28
SEQUENCE:0
LAST-MODIFIED:20131031T100723Z
SUMMARY:EXAM
LOCATION:Lecture Room Euler
PRIORITY:3
TRANSP:0
END:VEVENT
BEGIN:VEVENT
DTSTART:20131115T100000Z
DTEND:20131115T113000Z
DCREATED:20130730T123202Z
UID:ATEvent-49a023aa96f04aa38130265941a97d25
SEQUENCE:0
LAST-MODIFIED:20130730T123202Z
SUMMARY:HEP-PP
LOCATION:Lecture Room Euler
PRIORITY:3
TRANSP:0
END:VEVENT
BEGIN:VEVENT
DTSTART:20131112T130000Z
DTEND:20131112T143000Z
DCREATED:20130730T123500Z
UID:ATEvent-67015b2d716d4044a7c5817942f9ba8b
SEQUENCE:0
LAST-MODIFIED:20130909T120614Z
SUMMARY:HEP-QED
LOCATION:Lecture Room Euler
PRIORITY:3
TRANSP:0
END:VEVENT
BEGIN:VEVENT
DTSTART:20131114T130000Z
DTEND:20131114T143000Z
DCREATED:20130730T123500Z
UID:ATEvent-84092fac104c449fb47491feb1845d75
SEQUENCE:0
LAST-MODIFIED:20130909T120627Z
SUMMARY:HEP-QED
LOCATION:Lecture Room Euler
PRIORITY:3
TRANSP:0
END:VEVENT
BEGIN:VEVENT
DTSTART:20131115T130000Z
DTEND:20131115T143000Z
DCREATED:20130730T123500Z
UID:ATEvent-224025b8298d428d9d6606bfbf3b28a7
SEQUENCE:0
LAST-MODIFIED:20131011T085429Z
SUMMARY:HEP-QED
LOCATION:Lecture Room Euler
PRIORITY:3
TRANSP:0
END:VEVENT
BEGIN:VEVENT
DTSTART:20131111T150000Z
DTEND:20131111T163000Z
DCREATED:20130909T120914Z
UID:ATEvent-c89c2d59b96c44f59884f8e415792219
SEQUENCE:0
LAST-MODIFIED:20130909T120914Z
SUMMARY:MTH-TOP
LOCATION:Lecture Room Euler
PRIORITY:3
TRANSP:0
END:VEVENT
BEGIN:VEVENT
DTSTART:20131112T150000Z
DTEND:20131112T163000Z
DCREATED:20130909T120914Z
UID:ATEvent-37291768f3b04509b344700a744155b7
SEQUENCE:0
LAST-MODIFIED:20130909T120914Z
SUMMARY:MTH-TOP
LOCATION:Lecture Room Euler
PRIORITY:3
TRANSP:0
END:VEVENT
BEGIN:VEVENT
DTSTART:20131113T150000Z
DTEND:20131113T163000Z
DCREATED:20130909T122957Z
UID:ATEvent-944ad80b641244ae83e8b257ec9ea550
SEQUENCE:0
LAST-MODIFIED:20130909T123329Z
SUMMARY:MTH-AA
LOCATION:Lecture Room Euler
PRIORITY:3
TRANSP:0
END:VEVENT
BEGIN:VEVENT
DTSTART:20131115T150000Z
DTEND:20131115T163000Z
DCREATED:20130909T122957Z
UID:ATEvent-41f4a2f2d3c34596813a7a0ecfce73d4
SEQUENCE:0
LAST-MODIFIED:20130909T122957Z
SUMMARY:MTH-AA
LOCATION:Lecture Room Euler
PRIORITY:3
TRANSP:0
END:VEVENT
BEGIN:VEVENT
DTSTART:20131115T163000Z
DTEND:20131115T180000Z
DCREATED:20131031T140910Z
UID:ATEvent-e1799b853fb9493e953ce1c58479fefe
SEQUENCE:0
LAST-MODIFIED:20131031T140910Z
SUMMARY:HEP-PP tut.
LOCATION:Lecture Room Euler
PRIORITY:3
TRANSP:0
END:VEVENT
END:VCALENDAR
