BEGIN:VCALENDAR
PRODID:-//ICTPDiploma//ATRoom//EN
VERSION:1.0
BEGIN:VEVENT
DTSTART:20140922T070000Z
DTEND:20140922T083000Z
DCREATED:20140829T083049Z
UID:ATEvent-dae285d87fcf452e96bd58dababd5dac
SEQUENCE:0
LAST-MODIFIED:20140829T083049Z
SUMMARY:CMP-EPS
LOCATION:Lecture Room Euler
PRIORITY:3
TRANSP:0
END:VEVENT
BEGIN:VEVENT
DTSTART:20140923T070000Z
DTEND:20140923T083000Z
DCREATED:20140829T083049Z
UID:ATEvent-1dcbe154361b4ffbadfd271d404cd178
SEQUENCE:0
LAST-MODIFIED:20140829T083049Z
SUMMARY:CMP-EPS
LOCATION:Lecture Room Euler
PRIORITY:3
TRANSP:0
END:VEVENT
BEGIN:VEVENT
DTSTART:20140925T070000Z
DTEND:20140925T083000Z
DCREATED:20140829T083049Z
UID:ATEvent-8a73fe4d5678441e9f48794a49439d88
SEQUENCE:0
LAST-MODIFIED:20140829T083049Z
SUMMARY:CMP-EPS
LOCATION:Lecture Room Euler
PRIORITY:3
TRANSP:0
END:VEVENT
BEGIN:VEVENT
DTSTART:20140922T090000Z
DTEND:20140922T103000Z
DCREATED:20140826T085700Z
UID:ATEvent-1d7ec3bdf07c4b6f985647ab11c42e98
SEQUENCE:0
LAST-MODIFIED:20140826T085700Z
SUMMARY:HEP-RQM
LOCATION:Lecture Room Euler
PRIORITY:3
TRANSP:0
END:VEVENT
BEGIN:VEVENT
DTSTART:20140924T090000Z
DTEND:20140924T103000Z
DCREATED:20140826T085700Z
UID:ATEvent-2153c4a9b9304d85b3908bf08249ea32
SEQUENCE:0
LAST-MODIFIED:20140826T085700Z
SUMMARY:HEP-RQM
LOCATION:Lecture Room Euler
PRIORITY:3
TRANSP:0
END:VEVENT
BEGIN:VEVENT
DTSTART:20140926T090000Z
DTEND:20140926T103000Z
DCREATED:20140826T085700Z
UID:ATEvent-60f74b2d6f4744129a75ed5174dc1117
SEQUENCE:0
LAST-MODIFIED:20140826T085700Z
SUMMARY:HEP-RQM
LOCATION:Lecture Room Euler
PRIORITY:3
TRANSP:0
END:VEVENT
BEGIN:VEVENT
DTSTART:20140924T120000Z
DTEND:20140924T133000Z
DCREATED:20140826T090317Z
UID:ATEvent-eb3c31d6489e4cc4b9bd717f718a0f2e
SEQUENCE:0
LAST-MODIFIED:20140826T090317Z
SUMMARY:HEP-LL
LOCATION:Lecture Room Euler
PRIORITY:3
TRANSP:0
END:VEVENT
BEGIN:VEVENT
DTSTART:20140925T120000Z
DTEND:20140925T133000Z
DCREATED:20140826T090317Z
UID:ATEvent-f10166841e6542cab168a7ac9a10e961
SEQUENCE:0
LAST-MODIFIED:20140922T134503Z
SUMMARY:HEP-LL
LOCATION:Lecture Room Euler
PRIORITY:3
TRANSP:0
END:VEVENT
BEGIN:VEVENT
DTSTART:20140926T120000Z
DTEND:20140926T133000Z
DCREATED:20140826T090317Z
UID:ATEvent-a58e6040dd3246fea9d7ec8f217936a0
SEQUENCE:0
LAST-MODIFIED:20140826T090317Z
SUMMARY:HEP-LL
LOCATION:Lecture Room Euler
PRIORITY:3
TRANSP:0
END:VEVENT
BEGIN:VEVENT
DTSTART:20140924T140000Z
DTEND:20140924T153000Z
DCREATED:20140826T092828Z
UID:ATEvent-7bbdfe1ec4994cdca220e9fc10642441
SEQUENCE:0
LAST-MODIFIED:20140829T094415Z
SUMMARY:HEP-LL tut.
LOCATION:Lecture Room Euler
PRIORITY:3
TRANSP:0
END:VEVENT
END:VCALENDAR
