BEGIN:VCALENDAR
PRODID:-//ICTPDiploma//ATRoom//EN
VERSION:1.0
BEGIN:VEVENT
DTSTART:20160704T090000Z
DTEND:20160704T103000Z
DCREATED:20160630T075850Z
UID:ATEvent-5557ea52186c48fb82ba4dd6a7595621
SEQUENCE:0
LAST-MODIFIED:20160630T075850Z
SUMMARY:HECAP-IST
LOCATION:Lecture Room Euler
PRIORITY:3
TRANSP:0
END:VEVENT
BEGIN:VEVENT
DTSTART:20160705T090000Z
DTEND:20160705T103000Z
DCREATED:20160630T075850Z
UID:ATEvent-3badd12b46f542538cc1535d010c00d3
SEQUENCE:0
LAST-MODIFIED:20160630T075851Z
SUMMARY:HECAP-IST
LOCATION:Lecture Room Euler
PRIORITY:3
TRANSP:0
END:VEVENT
BEGIN:VEVENT
DTSTART:20160706T090000Z
DTEND:20160706T103000Z
DCREATED:20160630T075851Z
UID:ATEvent-714cef16c118411392befb427ddfc8d1
SEQUENCE:0
LAST-MODIFIED:20160630T075851Z
SUMMARY:HECAP-IST
LOCATION:Lecture Room Euler
PRIORITY:3
TRANSP:0
END:VEVENT
BEGIN:VEVENT
DTSTART:20160707T090000Z
DTEND:20160707T103000Z
DCREATED:20160630T075851Z
UID:ATEvent-3dc74bab01f247c79dfdcfcc8719ca40
SEQUENCE:0
LAST-MODIFIED:20160630T075851Z
SUMMARY:HECAP-IST
LOCATION:Lecture Room Euler
PRIORITY:3
TRANSP:0
END:VEVENT
BEGIN:VEVENT
DTSTART:20160708T090000Z
DTEND:20160708T103000Z
DCREATED:20160630T075851Z
UID:ATEvent-8c5894138fa349f491d22759e4564253
SEQUENCE:0
LAST-MODIFIED:20160630T075851Z
SUMMARY:HECAP-IST
LOCATION:Lecture Room Euler
PRIORITY:3
TRANSP:0
END:VEVENT
BEGIN:VEVENT
DTSTART:20160704T120000Z
DTEND:20160704T133000Z
DCREATED:20160630T075951Z
UID:ATEvent-327cf075d58c43bf81ed53aea23ca5c1
SEQUENCE:0
LAST-MODIFIED:20160630T075952Z
SUMMARY:HECAP-IST
LOCATION:Lecture Room Euler
PRIORITY:3
TRANSP:0
END:VEVENT
BEGIN:VEVENT
DTSTART:20160705T120000Z
DTEND:20160705T133000Z
DCREATED:20160630T075952Z
UID:ATEvent-269f390982f5489a8c309d653c71830d
SEQUENCE:0
LAST-MODIFIED:20160630T075952Z
SUMMARY:HECAP-IST
LOCATION:Lecture Room Euler
PRIORITY:3
TRANSP:0
END:VEVENT
BEGIN:VEVENT
DTSTART:20160706T120000Z
DTEND:20160706T133000Z
DCREATED:20160630T075952Z
UID:ATEvent-082968c2911041be91996cbbd6fbdbd8
SEQUENCE:0
LAST-MODIFIED:20160630T075952Z
SUMMARY:HECAP-IST
LOCATION:Lecture Room Euler
PRIORITY:3
TRANSP:0
END:VEVENT
BEGIN:VEVENT
DTSTART:20160707T120000Z
DTEND:20160707T133000Z
DCREATED:20160630T075952Z
UID:ATEvent-90f589271aae4714b376766fa76a8a7a
SEQUENCE:0
LAST-MODIFIED:20160630T075952Z
SUMMARY:HECAP-IST
LOCATION:Lecture Room Euler
PRIORITY:3
TRANSP:0
END:VEVENT
BEGIN:VEVENT
DTSTART:20160708T120000Z
DTEND:20160708T133000Z
DCREATED:20160630T075952Z
UID:ATEvent-67e10281e3204cbf87e2b1ac880c84b5
SEQUENCE:0
LAST-MODIFIED:20160630T075952Z
SUMMARY:HECAP-IST
LOCATION:Lecture Room Euler
PRIORITY:3
TRANSP:0
END:VEVENT
END:VCALENDAR
