BEGIN:VCALENDAR
PRODID:-//ICTPDiploma//ATRoom//EN
VERSION:1.0
BEGIN:VEVENT
DTSTART:20140526T090000Z
DTEND:20140526T103000Z
DCREATED:20131218T103048Z
UID:ATEvent-d265e0645e3846a8b1b85097f09065cc
SEQUENCE:0
LAST-MODIFIED:20131218T103048Z
SUMMARY:HEP-COS
LOCATION:Lecture Room Euler
PRIORITY:3
TRANSP:0
END:VEVENT
END:VCALENDAR
