BEGIN:VCALENDAR
PRODID:-//ICTPDiploma//ATRoom//EN
VERSION:1.0
BEGIN:VEVENT
DTSTART:20090519T070000Z
DTEND:20090519T083000Z
DCREATED:20090414T144048Z
UID:ATEvent-1d1cb552850f7a6bf63167fd46d4d7dc
SEQUENCE:0
LAST-MODIFIED:20090414T144148Z
SUMMARY:ESP-DA
LOCATION:Lecture Room Euler
PRIORITY:3
TRANSP:0
END:VEVENT
BEGIN:VEVENT
DTSTART:20090520T070000Z
DTEND:20090520T083000Z
DCREATED:20090330T101459Z
UID:ATEvent-c03a287c34e4147ba4adc629cf6035a8
SEQUENCE:0
LAST-MODIFIED:20090514T132832Z
SUMMARY:HEP-GR
LOCATION:Lecture Room Euler
PRIORITY:3
TRANSP:0
END:VEVENT
BEGIN:VEVENT
DTSTART:20090519T090000Z
DTEND:20090519T103000Z
DCREATED:20090414T144203Z
UID:ATEvent-9ed3160da8985d8532a0df8fdca87d6d
SEQUENCE:0
LAST-MODIFIED:20090414T144258Z
SUMMARY:EXAM
LOCATION:Lecture Room Euler
PRIORITY:3
TRANSP:0
END:VEVENT
BEGIN:VEVENT
DTSTART:20090520T090000Z
DTEND:20090520T103000Z
DCREATED:20090330T101609Z
UID:ATEvent-bcafe7d71e49527973f09ddeb6ad5b8a
SEQUENCE:0
LAST-MODIFIED:20090514T132854Z
SUMMARY:EXAM
LOCATION:Lecture Room Euler
PRIORITY:3
TRANSP:0
END:VEVENT
BEGIN:VEVENT
DTSTART:20090519T140000Z
DTEND:20090519T153000Z
DCREATED:20090514T132934Z
UID:ATEvent-1a2660396678dacbe8455b00c137cd8a
SEQUENCE:0
LAST-MODIFIED:20090514T133036Z
SUMMARY:all students' meeting
LOCATION:Lecture Room Euler
PRIORITY:3
TRANSP:0
END:VEVENT
END:VCALENDAR
