BEGIN:VCALENDAR
PRODID:-//ICTPDiploma//ATRoom//EN
VERSION:1.0
BEGIN:VEVENT
DTSTART:20100517T070000Z
DTEND:20100517T083000Z
DCREATED:20100511T081005Z
UID:ATEvent-d7c12f443dfbf1e03859c325399cb558
SEQUENCE:0
LAST-MODIFIED:20100511T081041Z
SUMMARY:ESP-DA
LOCATION:Lecture Room Euler
PRIORITY:3
TRANSP:0
END:VEVENT
BEGIN:VEVENT
DTSTART:20100517T090000Z
DTEND:20100517T103000Z
DCREATED:20100511T081051Z
UID:ATEvent-6d014e37dd5c230c22aed41701183a79
SEQUENCE:0
LAST-MODIFIED:20100511T081126Z
SUMMARY:EXAM
LOCATION:Lecture Room Euler
PRIORITY:3
TRANSP:0
END:VEVENT
END:VCALENDAR
