BEGIN:VCALENDAR
PRODID:-//ICTPDiploma//ATRoom//EN
VERSION:1.0
BEGIN:VEVENT
DTSTART:20210507T070000Z
DTEND:20210507T083000Z
DCREATED:20210414T100455Z
UID:ATEvent-6e3194d90f624866bf1811e1deeeeb77
SEQUENCE:0
LAST-MODIFIED:20210414T100540Z
SUMMARY:9:30 HEP-GR II
LOCATION:Lecture Room Euler
PRIORITY:3
TRANSP:0
END:VEVENT
BEGIN:VEVENT
DTSTART:20210504T090000Z
DTEND:20210504T103000Z
DCREATED:20210504T060654Z
UID:ATEvent-0388061e86d14b6dbbec3f1a2baa44f8
SEQUENCE:0
LAST-MODIFIED:20210504T061251Z
SUMMARY:10:00-12:00 QLS-INS (9)
LOCATION:Lecture Room Euler
PRIORITY:3
TRANSP:0
END:VEVENT
BEGIN:VEVENT
DTSTART:20210507T090000Z
DTEND:20210507T103000Z
DCREATED:20210414T100547Z
UID:ATEvent-9619b9c806c14786a8a597702caae00f
SEQUENCE:0
LAST-MODIFIED:20210414T100614Z
SUMMARY:EXAM
LOCATION:Lecture Room Euler
PRIORITY:3
TRANSP:0
END:VEVENT
BEGIN:VEVENT
DTSTART:20210506T140000Z
DTEND:20210506T153000Z
DCREATED:20210504T061505Z
UID:ATEvent-fbf02729033541f789890588d3b8d37c
SEQUENCE:0
LAST-MODIFIED:20210504T061604Z
SUMMARY:15:00-17:00 QLS-INS (10)
LOCATION:Lecture Room Euler
PRIORITY:3
TRANSP:0
END:VEVENT
END:VCALENDAR
