BEGIN:VCALENDAR
PRODID:-//ICTPDiploma//ATRoom//EN
VERSION:1.0
BEGIN:VEVENT
DTSTART:20220427T070000Z
DTEND:20220427T083000Z
DCREATED:20220120T144828Z
UID:ATEvent-e5e2b0706f804f4aaab67ec6b12698c9
SEQUENCE:0
LAST-MODIFIED:20220120T144828Z
SUMMARY:HEP-SM II
LOCATION:Lecture Room Euler
PRIORITY:3
TRANSP:0
END:VEVENT
BEGIN:VEVENT
DTSTART:20220428T070000Z
DTEND:20220428T083000Z
DCREATED:20220120T144828Z
UID:ATEvent-632e5d76344e4a278b4aaa607413f872
SEQUENCE:0
LAST-MODIFIED:20220120T144828Z
SUMMARY:HEP-SM II
LOCATION:Lecture Room Euler
PRIORITY:3
TRANSP:0
END:VEVENT
BEGIN:VEVENT
DTSTART:20220429T070000Z
DTEND:20220429T083000Z
DCREATED:20220120T144828Z
UID:ATEvent-fd25a77cbc3049228e89c4102fd9c85e
SEQUENCE:0
LAST-MODIFIED:20220120T144828Z
SUMMARY:HEP-SM II
LOCATION:Lecture Room Euler
PRIORITY:3
TRANSP:0
END:VEVENT
BEGIN:VEVENT
DTSTART:20220428T090000Z
DTEND:20220428T103000Z
DCREATED:20220419T144023Z
UID:ATEvent-539e0656827b498f96436db85d22de2c
SEQUENCE:0
LAST-MODIFIED:20220419T144108Z
SUMMARY:
LOCATION:Lecture Room Euler
PRIORITY:3
TRANSP:0
END:VEVENT
BEGIN:VEVENT
DTSTART:20220427T120000Z
DTEND:20220427T133000Z
DCREATED:20220411T135835Z
UID:ATEvent-129fe58c611145a6a23e61d5ca38dfbc
SEQUENCE:0
LAST-MODIFIED:20220411T135836Z
SUMMARY:HEP-GR II tut.
LOCATION:Lecture Room Euler
PRIORITY:3
TRANSP:0
END:VEVENT
BEGIN:VEVENT
DTSTART:20220427T140000Z
DTEND:20220427T153000Z
DCREATED:20220401T125434Z
UID:ATEvent-b41610659e16416d8216e8d8d5c65878
SEQUENCE:0
LAST-MODIFIED:20220404T134023Z
SUMMARY:
LOCATION:Lecture Room Euler
PRIORITY:3
TRANSP:0
END:VEVENT
END:VCALENDAR
