BEGIN:VCALENDAR
PRODID:-//ICTPDiploma//ATRoom//EN
VERSION:1.0
BEGIN:VEVENT
DTSTART:20120423T070000Z
DTEND:20120423T083000Z
DCREATED:20111216T154155Z
UID:ATEvent-4ebc6bc0779a98bb9c71294c42c43a2a
SEQUENCE:0
LAST-MODIFIED:20111216T154155Z
SUMMARY:HEP-COS
LOCATION:Lecture Room Euler
PRIORITY:3
TRANSP:0
END:VEVENT
BEGIN:VEVENT
DTSTART:20120424T070000Z
DTEND:20120424T083000Z
DCREATED:20111216T154041Z
UID:ATEvent-0e022005fd4500247c4548af5b064a0c
SEQUENCE:0
LAST-MODIFIED:20111216T154042Z
SUMMARY:HEP-SFT
LOCATION:Lecture Room Euler
PRIORITY:3
TRANSP:0
END:VEVENT
BEGIN:VEVENT
DTSTART:20120426T070000Z
DTEND:20120426T083000Z
DCREATED:20111216T154042Z
UID:ATEvent-de8a91d0ad4d582352eb7a47f6388b6b
SEQUENCE:0
LAST-MODIFIED:20111216T154042Z
SUMMARY:HEP-SFT
LOCATION:Lecture Room Euler
PRIORITY:3
TRANSP:0
END:VEVENT
BEGIN:VEVENT
DTSTART:20120427T070000Z
DTEND:20120427T083000Z
DCREATED:20111216T154155Z
UID:ATEvent-a4ca7f5be623d47888fbee7ff5548e90
SEQUENCE:0
LAST-MODIFIED:20111216T154155Z
SUMMARY:HEP-COS
LOCATION:Lecture Room Euler
PRIORITY:3
TRANSP:0
END:VEVENT
BEGIN:VEVENT
DTSTART:20120423T090000Z
DTEND:20120423T103000Z
DCREATED:20120329T092031Z
UID:ATEvent-57f3f3f7b00caaaa03a4a2491fd971a2
SEQUENCE:0
LAST-MODIFIED:20120329T092113Z
SUMMARY:HEP-SM
LOCATION:Lecture Room Euler
PRIORITY:3
TRANSP:0
END:VEVENT
BEGIN:VEVENT
DTSTART:20120424T090000Z
DTEND:20120424T103000Z
DCREATED:20111216T153545Z
UID:ATEvent-b122a4c2562326bbc1ed27dc94ba2d29
SEQUENCE:0
LAST-MODIFIED:20111216T153545Z
SUMMARY:HEP-QFT
LOCATION:Lecture Room Euler
PRIORITY:3
TRANSP:0
END:VEVENT
BEGIN:VEVENT
DTSTART:20120425T090000Z
DTEND:20120425T103000Z
DCREATED:20120329T092150Z
UID:ATEvent-bdf08c90178e079a7a8f0521da16253d
SEQUENCE:0
LAST-MODIFIED:20120329T092220Z
SUMMARY:HEP-SM
LOCATION:Lecture Room Euler
PRIORITY:3
TRANSP:0
END:VEVENT
BEGIN:VEVENT
DTSTART:20120426T090000Z
DTEND:20120426T103000Z
DCREATED:20120306T133143Z
UID:ATEvent-6f76c4a94139974542b7a3b3a553b3f6
SEQUENCE:0
LAST-MODIFIED:20120306T133222Z
SUMMARY:HEP-QFT
LOCATION:Lecture Room Euler
PRIORITY:3
TRANSP:0
END:VEVENT
BEGIN:VEVENT
DTSTART:20120423T120000Z
DTEND:20120423T133000Z
DCREATED:20111219T155354Z
UID:ATEvent-530793a6e20d54dacab1983b3d8cff20
SEQUENCE:0
LAST-MODIFIED:20120130T142827Z
SUMMARY:HEP-GR tut.
LOCATION:Lecture Room Euler
PRIORITY:3
TRANSP:0
END:VEVENT
BEGIN:VEVENT
DTSTART:20120424T120000Z
DTEND:20120424T133000Z
DCREATED:20120227T140640Z
UID:ATEvent-f1a55c8a53ee9a50ee3b054d755a8649
SEQUENCE:0
LAST-MODIFIED:20120417T150503Z
SUMMARY:HEP-SM tut.
LOCATION:Lecture Room Euler
PRIORITY:3
TRANSP:0
END:VEVENT
BEGIN:VEVENT
DTSTART:20120427T120000Z
DTEND:20120427T133000Z
DCREATED:20111221T134927Z
UID:ATEvent-a5e378c767f5b158254aa48d67e54d78
SEQUENCE:0
LAST-MODIFIED:20111221T135024Z
SUMMARY:HEP-SFT
LOCATION:Lecture Room Euler
PRIORITY:3
TRANSP:0
END:VEVENT
BEGIN:VEVENT
DTSTART:20120427T140000Z
DTEND:20120427T153000Z
DCREATED:20120404T132835Z
UID:ATEvent-941c0257dec10b79c95a493a24319bcc
SEQUENCE:0
LAST-MODIFIED:20120427T070949Z
SUMMARY:HEP-SM
LOCATION:Lecture Room Euler
PRIORITY:3
TRANSP:0
END:VEVENT
END:VCALENDAR
