BEGIN:VCALENDAR
PRODID:-//ICTPDiploma//ATRoom//EN
VERSION:1.0
BEGIN:VEVENT
DTSTART:20110419T070000Z
DTEND:20110419T083000Z
DCREATED:20110216T090848Z
UID:ATEvent-70ad22c77388dfb71c0f5fb68ea73e70
SEQUENCE:0
LAST-MODIFIED:20110302T102237Z
SUMMARY:HEP-QFT
LOCATION:Lecture Room Euler
PRIORITY:3
TRANSP:0
END:VEVENT
BEGIN:VEVENT
DTSTART:20110420T070000Z
DTEND:20110420T083000Z
DCREATED:20110216T091015Z
UID:ATEvent-81b5061eb109dca410526c7c12a8cae9
SEQUENCE:0
LAST-MODIFIED:20110216T091052Z
SUMMARY:HEP-SFT
LOCATION:Lecture Room Euler
PRIORITY:3
TRANSP:0
END:VEVENT
BEGIN:VEVENT
DTSTART:20110421T070000Z
DTEND:20110421T083000Z
DCREATED:20110324T152356Z
UID:ATEvent-4738459c2007b4ed27c9e132f964938e
SEQUENCE:0
LAST-MODIFIED:20110324T153638Z
SUMMARY:CMP-MN
LOCATION:Lecture Room Euler
PRIORITY:3
TRANSP:0
END:VEVENT
BEGIN:VEVENT
DTSTART:20110422T070000Z
DTEND:20110422T083000Z
DCREATED:20110215T160504Z
UID:ATEvent-254ca0db2a8a55bf375586d87d3be70f
SEQUENCE:0
LAST-MODIFIED:20110215T160531Z
SUMMARY:ICTP
LOCATION:Lecture Room Euler
PRIORITY:3
TRANSP:0
END:VEVENT
BEGIN:VEVENT
DTSTART:20110418T090000Z
DTEND:20110418T103000Z
DCREATED:20110216T090711Z
UID:ATEvent-ea99b1365d74d5577aa65000f27da3eb
SEQUENCE:0
LAST-MODIFIED:20110216T090753Z
SUMMARY:HEP-GR tut.
LOCATION:Lecture Room Euler
PRIORITY:3
TRANSP:0
END:VEVENT
BEGIN:VEVENT
DTSTART:20110419T090000Z
DTEND:20110419T103000Z
DCREATED:20110401T142249Z
UID:ATEvent-887bc74d7e11fe47a3e34546adc1bedd
SEQUENCE:0
LAST-MODIFIED:20110418T070003Z
SUMMARY:HEP-SM
LOCATION:Lecture Room Euler
PRIORITY:3
TRANSP:0
END:VEVENT
BEGIN:VEVENT
DTSTART:20110421T090000Z
DTEND:20110421T103000Z
DCREATED:20110324T153651Z
UID:ATEvent-60372e81eb3a448568e30e3c03d5cfef
SEQUENCE:0
LAST-MODIFIED:20110324T153725Z
SUMMARY:EXAM
LOCATION:Lecture Room Euler
PRIORITY:3
TRANSP:0
END:VEVENT
BEGIN:VEVENT
DTSTART:20110422T090000Z
DTEND:20110422T103000Z
DCREATED:20110215T160538Z
UID:ATEvent-35e893c62a09c311b768f2a5df15ac5b
SEQUENCE:0
LAST-MODIFIED:20110215T160805Z
SUMMARY:official holiday
LOCATION:Lecture Room Euler
PRIORITY:3
TRANSP:0
END:VEVENT
BEGIN:VEVENT
DTSTART:20110421T120000Z
DTEND:20110421T133000Z
DCREATED:20110216T091259Z
UID:ATEvent-5ffa939f44875952c650f00be3769027
SEQUENCE:0
LAST-MODIFIED:20110216T091322Z
SUMMARY:HEP-SM
LOCATION:Lecture Room Euler
PRIORITY:3
TRANSP:0
END:VEVENT
BEGIN:VEVENT
DTSTART:20110422T120000Z
DTEND:20110422T133000Z
DCREATED:20110215T160616Z
UID:ATEvent-4f5941ba6e3448ddc530408b6c664725
SEQUENCE:0
LAST-MODIFIED:20110215T160638Z
SUMMARY:GOOD
LOCATION:Lecture Room Euler
PRIORITY:3
TRANSP:0
END:VEVENT
BEGIN:VEVENT
DTSTART:20110418T140000Z
DTEND:20110418T153000Z
DCREATED:20110216T090626Z
UID:ATEvent-e23227f8907829b335bafc891d594904
SEQUENCE:0
LAST-MODIFIED:20110412T084117Z
SUMMARY:HEP-SFT
LOCATION:Lecture Room Euler
PRIORITY:3
TRANSP:0
END:VEVENT
BEGIN:VEVENT
DTSTART:20110420T140000Z
DTEND:20110420T153000Z
DCREATED:20110216T091103Z
UID:ATEvent-9c4f4c2b481c54fac76aa301736b6924
SEQUENCE:0
LAST-MODIFIED:20110216T091134Z
SUMMARY:HEP-SM tut.
LOCATION:Lecture Room Euler
PRIORITY:3
TRANSP:0
END:VEVENT
BEGIN:VEVENT
DTSTART:20110421T140000Z
DTEND:20110421T153000Z
DCREATED:20110222T130239Z
UID:ATEvent-8730ca109fc2f0e198927e9668baf0ad
SEQUENCE:0
LAST-MODIFIED:20110222T130309Z
SUMMARY:HEP-QFT tut.
LOCATION:Lecture Room Euler
PRIORITY:3
TRANSP:0
END:VEVENT
BEGIN:VEVENT
DTSTART:20110422T140000Z
DTEND:20110422T153000Z
DCREATED:20110215T160648Z
UID:ATEvent-fd2a48d453aeabad93b0174a42c34fa2
SEQUENCE:0
LAST-MODIFIED:20110215T160720Z
SUMMARY:FRIDAY
LOCATION:Lecture Room Euler
PRIORITY:3
TRANSP:0
END:VEVENT
BEGIN:VEVENT
DTSTART:20110422T153000Z
DTEND:20110422T170000Z
DCREATED:20110215T160727Z
UID:ATEvent-e3538f5faae9a13815cf969e24ab8df0
SEQUENCE:0
LAST-MODIFIED:20110215T160746Z
SUMMARY:
LOCATION:Lecture Room Euler
PRIORITY:3
TRANSP:0
END:VEVENT
END:VCALENDAR
