BEGIN:VCALENDAR
PRODID:-//ICTPDiploma//ATRoom//EN
VERSION:1.0
BEGIN:VEVENT
DTSTART:20220418T070000Z
DTEND:20220418T083000Z
DCREATED:20220309T092638Z
UID:ATEvent-c78585675a574b12a06f5d0ebf886288
SEQUENCE:0
LAST-MODIFIED:20220309T092653Z
SUMMARY:EASTER MONDAY
LOCATION:Lecture Room Euler
PRIORITY:3
TRANSP:0
END:VEVENT
BEGIN:VEVENT
DTSTART:20220420T070000Z
DTEND:20220420T083000Z
DCREATED:20220120T144827Z
UID:ATEvent-2f7efc2cbee541d7a7e63ca9c6d65f21
SEQUENCE:0
LAST-MODIFIED:20220120T144827Z
SUMMARY:HEP-SM II
LOCATION:Lecture Room Euler
PRIORITY:3
TRANSP:0
END:VEVENT
BEGIN:VEVENT
DTSTART:20220421T070000Z
DTEND:20220421T083000Z
DCREATED:20220120T144827Z
UID:ATEvent-e6c4fdd3a8d249c7818d77e290bad925
SEQUENCE:0
LAST-MODIFIED:20220120T144827Z
SUMMARY:HEP-SM II
LOCATION:Lecture Room Euler
PRIORITY:3
TRANSP:0
END:VEVENT
BEGIN:VEVENT
DTSTART:20220422T070000Z
DTEND:20220422T083000Z
DCREATED:20220120T144828Z
UID:ATEvent-860dd079765a424f8cb64a3c5391f904
SEQUENCE:0
LAST-MODIFIED:20220120T144828Z
SUMMARY:HEP-SM II
LOCATION:Lecture Room Euler
PRIORITY:3
TRANSP:0
END:VEVENT
BEGIN:VEVENT
DTSTART:20220418T090000Z
DTEND:20220418T103000Z
DCREATED:20220309T092659Z
UID:ATEvent-82893a4e43d745d4a23396ad290418e0
SEQUENCE:0
LAST-MODIFIED:20220309T092715Z
SUMMARY:ICTP
LOCATION:Lecture Room Euler
PRIORITY:3
TRANSP:0
END:VEVENT
BEGIN:VEVENT
DTSTART:20220419T090000Z
DTEND:20220419T103000Z
DCREATED:20220114T105912Z
UID:ATEvent-c0e3dd2a270a4a4b8bff65dd258a6c91
SEQUENCE:0
LAST-MODIFIED:20220114T105936Z
SUMMARY:HEP-GR II
LOCATION:Lecture Room Euler
PRIORITY:3
TRANSP:0
END:VEVENT
BEGIN:VEVENT
DTSTART:20220420T090000Z
DTEND:20220420T103000Z
DCREATED:20220114T105912Z
UID:ATEvent-5f7dbbabcd524a709697411d3bfe9b7b
SEQUENCE:0
LAST-MODIFIED:20220114T105912Z
SUMMARY:HEP-GR II
LOCATION:Lecture Room Euler
PRIORITY:3
TRANSP:0
END:VEVENT
BEGIN:VEVENT
DTSTART:20220422T090000Z
DTEND:20220422T103000Z
DCREATED:20220114T105912Z
UID:ATEvent-82844203d7bd42e1b0f4b6ccb1b9a5c3
SEQUENCE:0
LAST-MODIFIED:20220114T105912Z
SUMMARY:HEP-GR II
LOCATION:Lecture Room Euler
PRIORITY:3
TRANSP:0
END:VEVENT
BEGIN:VEVENT
DTSTART:20220418T120000Z
DTEND:20220418T133000Z
DCREATED:20220309T092719Z
UID:ATEvent-0fc468b273634ec3be04670adf7ea7b6
SEQUENCE:0
LAST-MODIFIED:20220309T092734Z
SUMMARY:official
LOCATION:Lecture Room Euler
PRIORITY:3
TRANSP:0
END:VEVENT
BEGIN:VEVENT
DTSTART:20220420T120000Z
DTEND:20220420T133000Z
DCREATED:20220411T135714Z
UID:ATEvent-8a8726ee52134f50a073344ae5215300
SEQUENCE:0
LAST-MODIFIED:20220411T135738Z
SUMMARY:HEP-GR II tut.
LOCATION:Lecture Room Euler
PRIORITY:3
TRANSP:0
END:VEVENT
BEGIN:VEVENT
DTSTART:20220422T120000Z
DTEND:20220422T133000Z
DCREATED:20220401T125400Z
UID:ATEvent-a06fd0cd980c4fe7832b22316b4f76e8
SEQUENCE:0
LAST-MODIFIED:20220414T140552Z
SUMMARY:
LOCATION:Lecture Room Euler
PRIORITY:3
TRANSP:0
END:VEVENT
BEGIN:VEVENT
DTSTART:20220418T140000Z
DTEND:20220418T153000Z
DCREATED:20220309T092737Z
UID:ATEvent-89b26413effd4b0597c701f794195732
SEQUENCE:0
LAST-MODIFIED:20220309T092751Z
SUMMARY:holiday
LOCATION:Lecture Room Euler
PRIORITY:3
TRANSP:0
END:VEVENT
END:VCALENDAR
