BEGIN:VCALENDAR
PRODID:-//ICTPDiploma//ATRoom//EN
VERSION:1.0
BEGIN:VEVENT
DTSTART:20160321T080000Z
DTEND:20160321T093000Z
DCREATED:20151207T134911Z
UID:ATEvent-9ef68c13a4e24f3996d3b161f8fd6edc
SEQUENCE:0
LAST-MODIFIED:20151207T134911Z
SUMMARY:CMP-MBP
LOCATION:Lecture Room Euler
PRIORITY:3
TRANSP:0
END:VEVENT
BEGIN:VEVENT
DTSTART:20160322T080000Z
DTEND:20160322T093000Z
DCREATED:20151217T111120Z
UID:ATEvent-337c33ae98f8443c9ef299cc3204b8a9
SEQUENCE:0
LAST-MODIFIED:20151217T111120Z
SUMMARY:CMP-ES
LOCATION:Lecture Room Euler
PRIORITY:3
TRANSP:0
END:VEVENT
BEGIN:VEVENT
DTSTART:20160323T080000Z
DTEND:20160323T093000Z
DCREATED:20151207T134911Z
UID:ATEvent-e2bb6f3f158f4895bb0c0aaa74ce2737
SEQUENCE:0
LAST-MODIFIED:20160210T103147Z
SUMMARY:CMP-MBP tut. (3)
LOCATION:Lecture Room Euler
PRIORITY:3
TRANSP:0
END:VEVENT
BEGIN:VEVENT
DTSTART:20160324T080000Z
DTEND:20160324T093000Z
DCREATED:20151217T111120Z
UID:ATEvent-a2d33e54e23b4c748f21f925dd2f20e2
SEQUENCE:0
LAST-MODIFIED:20151217T111121Z
SUMMARY:CMP-ES
LOCATION:Lecture Room Euler
PRIORITY:3
TRANSP:0
END:VEVENT
BEGIN:VEVENT
DTSTART:20160325T080000Z
DTEND:20160325T093000Z
DCREATED:20160308T092634Z
UID:ATEvent-8e323fa895294d6380184f28590503eb
SEQUENCE:0
LAST-MODIFIED:20160308T092650Z
SUMMARY:ICTP
LOCATION:Lecture Room Euler
PRIORITY:3
TRANSP:0
END:VEVENT
BEGIN:VEVENT
DTSTART:20160321T100000Z
DTEND:20160321T113000Z
DCREATED:20160303T144108Z
UID:ATEvent-1efbcb60eae04838bcfe30f7fb135d3a
SEQUENCE:0
LAST-MODIFIED:20160303T144131Z
SUMMARY:HEP-SM
LOCATION:Lecture Room Euler
PRIORITY:3
TRANSP:0
END:VEVENT
BEGIN:VEVENT
DTSTART:20160322T100000Z
DTEND:20160322T113000Z
DCREATED:20151207T132510Z
UID:ATEvent-79f7679119f84911881396301a1eaace
SEQUENCE:0
LAST-MODIFIED:20151207T132510Z
SUMMARY:HEP-QFT
LOCATION:Lecture Room Euler
PRIORITY:3
TRANSP:0
END:VEVENT
BEGIN:VEVENT
DTSTART:20160324T100000Z
DTEND:20160324T113000Z
DCREATED:20151207T132510Z
UID:ATEvent-51de0b26bf6544e189892fbdeb4f40fe
SEQUENCE:0
LAST-MODIFIED:20151207T132511Z
SUMMARY:HEP-QFT
LOCATION:Lecture Room Euler
PRIORITY:3
TRANSP:0
END:VEVENT
BEGIN:VEVENT
DTSTART:20160325T100000Z
DTEND:20160325T113000Z
DCREATED:20160308T092704Z
UID:ATEvent-fd5d7e12f3d0428fb28a9ad8681713e0
SEQUENCE:0
LAST-MODIFIED:20160308T092722Z
SUMMARY:official holiday
LOCATION:Lecture Room Euler
PRIORITY:3
TRANSP:0
END:VEVENT
BEGIN:VEVENT
DTSTART:20160322T130000Z
DTEND:20160322T143000Z
DCREATED:20160119T102637Z
UID:ATEvent-60a41063f2a64150b82b08a32566c1eb
SEQUENCE:0
LAST-MODIFIED:20160317T142149Z
SUMMARY:HEP-SM
LOCATION:Lecture Room Euler
PRIORITY:3
TRANSP:0
END:VEVENT
BEGIN:VEVENT
DTSTART:20160323T130000Z
DTEND:20160323T143000Z
DCREATED:20151207T134142Z
UID:ATEvent-1fe7f29a27e441a7b8a9a3bebd47fb9b
SEQUENCE:0
LAST-MODIFIED:20160125T132847Z
SUMMARY:HEP-GR tut.
LOCATION:Lecture Room Euler
PRIORITY:3
TRANSP:0
END:VEVENT
BEGIN:VEVENT
DTSTART:20160324T130000Z
DTEND:20160324T143000Z
DCREATED:20160303T144956Z
UID:ATEvent-088809fa17c04a929410c413c2aad2d7
SEQUENCE:0
LAST-MODIFIED:20160303T152957Z
SUMMARY:HEP-SM tut.
LOCATION:Lecture Room Euler
PRIORITY:3
TRANSP:0
END:VEVENT
BEGIN:VEVENT
DTSTART:20160325T130000Z
DTEND:20160325T143000Z
DCREATED:20160308T092728Z
UID:ATEvent-58049e93a5c74c288b7fad65a7cdcc37
SEQUENCE:0
LAST-MODIFIED:20160308T092743Z
SUMMARY:GOOD
LOCATION:Lecture Room Euler
PRIORITY:3
TRANSP:0
END:VEVENT
BEGIN:VEVENT
DTSTART:20160323T150000Z
DTEND:20160323T163000Z
DCREATED:20160322T151231Z
UID:ATEvent-c0dc911325e74e5d896865496e044c2f
SEQUENCE:0
LAST-MODIFIED:20160322T151252Z
SUMMARY:HEP-SM
LOCATION:Lecture Room Euler
PRIORITY:3
TRANSP:0
END:VEVENT
BEGIN:VEVENT
DTSTART:20160324T150000Z
DTEND:20160324T163000Z
DCREATED:20151207T133839Z
UID:ATEvent-5998a7708eb243c4bbf0a7f2ec99c37d
SEQUENCE:0
LAST-MODIFIED:20160203T110541Z
SUMMARY:HEP-QFT tut.
LOCATION:Lecture Room Euler
PRIORITY:3
TRANSP:0
END:VEVENT
BEGIN:VEVENT
DTSTART:20160325T150000Z
DTEND:20160325T163000Z
DCREATED:20160308T092753Z
UID:ATEvent-fcb3c38643e14192a6ea106f616aeb4c
SEQUENCE:0
LAST-MODIFIED:20160308T092814Z
SUMMARY:FRIDAY
LOCATION:Lecture Room Euler
PRIORITY:3
TRANSP:0
END:VEVENT
END:VCALENDAR
