BEGIN:VCALENDAR
PRODID:-//ICTPDiploma//ATRoom//EN
VERSION:1.0
BEGIN:VEVENT
DTSTART:20200316T080000Z
DTEND:20200316T093000Z
DCREATED:20191115T103746Z
UID:ATEvent-2adff61a983f45dc9e61d8fc2c04dfc1
SEQUENCE:0
LAST-MODIFIED:20191115T103746Z
SUMMARY:CMP-ASM
LOCATION:Lecture Room Euler
PRIORITY:3
TRANSP:0
END:VEVENT
BEGIN:VEVENT
DTSTART:20200317T080000Z
DTEND:20200317T093000Z
DCREATED:20191115T103524Z
UID:ATEvent-543b855ebf414cd29164fa48800063ec
SEQUENCE:0
LAST-MODIFIED:20200313T090743Z
SUMMARY:CMP-MBP
LOCATION:Lecture Room Euler
PRIORITY:3
TRANSP:0
END:VEVENT
BEGIN:VEVENT
DTSTART:20200318T080000Z
DTEND:20200318T093000Z
DCREATED:20191115T103746Z
UID:ATEvent-142ee99d3e2a4631b7a2661bc710d4d3
SEQUENCE:0
LAST-MODIFIED:20191115T103747Z
SUMMARY:CMP-ASM
LOCATION:Lecture Room Euler
PRIORITY:3
TRANSP:0
END:VEVENT
BEGIN:VEVENT
DTSTART:20200319T080000Z
DTEND:20200319T093000Z
DCREATED:20200210T131546Z
UID:ATEvent-a412f17efc3f4da4ae0b0f631eec9f37
SEQUENCE:0
LAST-MODIFIED:20200210T131629Z
SUMMARY:CMP-MBP
LOCATION:Lecture Room Euler
PRIORITY:3
TRANSP:0
END:VEVENT
BEGIN:VEVENT
DTSTART:20200320T080000Z
DTEND:20200320T093000Z
DCREATED:20191115T103747Z
UID:ATEvent-a00fbd6d0cd94891ae74996729a488f0
SEQUENCE:0
LAST-MODIFIED:20191115T103747Z
SUMMARY:CMP-ASM
LOCATION:Lecture Room Euler
PRIORITY:3
TRANSP:0
END:VEVENT
BEGIN:VEVENT
DTSTART:20200317T100000Z
DTEND:20200317T113000Z
DCREATED:20200121T160606Z
UID:ATEvent-8855283b9cdc450ba6002e5e43e3281a
SEQUENCE:0
LAST-MODIFIED:20200121T160606Z
SUMMARY:HEP-QFT tut.
LOCATION:Lecture Room Euler
PRIORITY:3
TRANSP:0
END:VEVENT
BEGIN:VEVENT
DTSTART:20200319T100000Z
DTEND:20200319T113000Z
DCREATED:20200121T160606Z
UID:ATEvent-0fe329982bb346e78a9e6ec7afe33d23
SEQUENCE:0
LAST-MODIFIED:20200121T160607Z
SUMMARY:HEP-QFT tut.
LOCATION:Lecture Room Euler
PRIORITY:3
TRANSP:0
END:VEVENT
BEGIN:VEVENT
DTSTART:20200316T130000Z
DTEND:20200316T143000Z
DCREATED:20191114T161129Z
UID:ATEvent-f1afa73af3de4905a3c488c188048583
SEQUENCE:0
LAST-MODIFIED:20200313T100235Z
SUMMARY:HEP-SM
LOCATION:Lecture Room Euler
PRIORITY:3
TRANSP:0
END:VEVENT
BEGIN:VEVENT
DTSTART:20200317T130000Z
DTEND:20200317T143000Z
DCREATED:20200313T125725Z
UID:ATEvent-d4642cd22740450a85c82f7de4b7841a
SEQUENCE:0
LAST-MODIFIED:20200313T125749Z
SUMMARY:HEP-GR
LOCATION:Lecture Room Euler
PRIORITY:3
TRANSP:0
END:VEVENT
BEGIN:VEVENT
DTSTART:20200318T130000Z
DTEND:20200318T143000Z
DCREATED:20191114T161129Z
UID:ATEvent-227b4a8d73a64569844c6467bddedc56
SEQUENCE:0
LAST-MODIFIED:20200313T100508Z
SUMMARY:HEP-SM
LOCATION:Lecture Room Euler
PRIORITY:3
TRANSP:0
END:VEVENT
BEGIN:VEVENT
DTSTART:20200319T130000Z
DTEND:20200319T143000Z
DCREATED:20191115T125130Z
UID:ATEvent-13a568065e634e1e8f34925280a0cc12
SEQUENCE:0
LAST-MODIFIED:20200313T124242Z
SUMMARY:HEP-GR tut.
LOCATION:Lecture Room Euler
PRIORITY:3
TRANSP:0
END:VEVENT
BEGIN:VEVENT
DTSTART:20200320T130000Z
DTEND:20200320T143000Z
DCREATED:20200318T061731Z
UID:ATEvent-1d5bee2d10234f31892a29ca0fae73ac
SEQUENCE:0
LAST-MODIFIED:20200318T061836Z
SUMMARY:HEP-GR
LOCATION:Lecture Room Euler
PRIORITY:3
TRANSP:0
END:VEVENT
BEGIN:VEVENT
DTSTART:20200316T150000Z
DTEND:20200316T163000Z
DCREATED:20200313T104347Z
UID:ATEvent-40d7665a3e7749d5b96b8f0985bb21f4
SEQUENCE:0
LAST-MODIFIED:20200313T125812Z
SUMMARY:HEP-QFT (skype)
LOCATION:Lecture Room Euler
PRIORITY:3
TRANSP:0
END:VEVENT
BEGIN:VEVENT
DTSTART:20200318T150000Z
DTEND:20200318T163000Z
DCREATED:20200122T072239Z
UID:ATEvent-4c111cc062294b608d00b8f7d6fbc0a8
SEQUENCE:0
LAST-MODIFIED:20200318T122757Z
SUMMARY:HEP-SM tut. (skype)
LOCATION:Lecture Room Euler
PRIORITY:3
TRANSP:0
END:VEVENT
BEGIN:VEVENT
DTSTART:20200319T150000Z
DTEND:20200319T163000Z
DCREATED:20200313T104443Z
UID:ATEvent-0e4b7a235dd449d4b74e79844505ff32
SEQUENCE:0
LAST-MODIFIED:20200313T125833Z
SUMMARY:HEP-QFT (skype)
LOCATION:Lecture Room Euler
PRIORITY:3
TRANSP:0
END:VEVENT
BEGIN:VEVENT
DTSTART:20200320T150000Z
DTEND:20200320T163000Z
DCREATED:20191114T161129Z
UID:ATEvent-ccac289320de4daea69d23dce818bfd0
SEQUENCE:0
LAST-MODIFIED:20200313T100523Z
SUMMARY:HEP-SM
LOCATION:Lecture Room Euler
PRIORITY:3
TRANSP:0
END:VEVENT
END:VCALENDAR
