BEGIN:VCALENDAR
PRODID:-//ICTPDiploma//ATRoom//EN
VERSION:1.0
BEGIN:VEVENT
DTSTART:20120316T080000Z
DTEND:20120316T093000Z
DCREATED:20120229T154925Z
UID:ATEvent-5e61fb276333579e6dad1e2e3bcb5cde
SEQUENCE:0
LAST-MODIFIED:20120229T155054Z
SUMMARY:PHY-MM
LOCATION:Lecture Room Euler
PRIORITY:3
TRANSP:0
END:VEVENT
BEGIN:VEVENT
DTSTART:20120312T100000Z
DTEND:20120312T113000Z
DCREATED:20111219T150317Z
UID:ATEvent-bf70a9efab61ca8312a8b0ab0d4a56cc
SEQUENCE:0
LAST-MODIFIED:20111219T150317Z
SUMMARY:HEP-SM
LOCATION:Lecture Room Euler
PRIORITY:3
TRANSP:0
END:VEVENT
BEGIN:VEVENT
DTSTART:20120313T100000Z
DTEND:20120313T113000Z
DCREATED:20111216T153541Z
UID:ATEvent-e2b6b8f802173e76811f9b7fd48ee670
SEQUENCE:0
LAST-MODIFIED:20111219T151803Z
SUMMARY:HEP-QFT
LOCATION:Lecture Room Euler
PRIORITY:3
TRANSP:0
END:VEVENT
BEGIN:VEVENT
DTSTART:20120314T100000Z
DTEND:20120314T113000Z
DCREATED:20111219T150317Z
UID:ATEvent-2d2fd51774ccb2df3637641234c57aad
SEQUENCE:0
LAST-MODIFIED:20111219T150317Z
SUMMARY:HEP-SM
LOCATION:Lecture Room Euler
PRIORITY:3
TRANSP:0
END:VEVENT
BEGIN:VEVENT
DTSTART:20120315T100000Z
DTEND:20120315T113000Z
DCREATED:20111216T153541Z
UID:ATEvent-f17f2d345ff0b2c6381e07f409999649
SEQUENCE:0
LAST-MODIFIED:20111216T153541Z
SUMMARY:HEP-QFT
LOCATION:Lecture Room Euler
PRIORITY:3
TRANSP:0
END:VEVENT
BEGIN:VEVENT
DTSTART:20120316T100000Z
DTEND:20120316T113000Z
DCREATED:20120229T155159Z
UID:ATEvent-f70507148583763b6b7f826daa4cf251
SEQUENCE:0
LAST-MODIFIED:20120229T155231Z
SUMMARY:EXAM
LOCATION:Lecture Room Euler
PRIORITY:3
TRANSP:0
END:VEVENT
BEGIN:VEVENT
DTSTART:20120312T130000Z
DTEND:20120312T143000Z
DCREATED:20111219T151657Z
UID:ATEvent-6ae7b71e8711ed25284882c72590607a
SEQUENCE:0
LAST-MODIFIED:20120130T140153Z
SUMMARY:HEP-GR tut.
LOCATION:Lecture Room Euler
PRIORITY:3
TRANSP:0
END:VEVENT
BEGIN:VEVENT
DTSTART:20120315T130000Z
DTEND:20120315T143000Z
DCREATED:20120130T134341Z
UID:ATEvent-fa062d0abd1caa00c7a271dcf116c1eb
SEQUENCE:0
LAST-MODIFIED:20120130T134341Z
SUMMARY:HEP-QFT tut.
LOCATION:Lecture Room Euler
PRIORITY:3
TRANSP:0
END:VEVENT
BEGIN:VEVENT
DTSTART:20120312T150000Z
DTEND:20120312T163000Z
DCREATED:20120307T145746Z
UID:ATEvent-90b74fd0d462836dbadbb1654371acbb
SEQUENCE:0
LAST-MODIFIED:20120307T145827Z
SUMMARY:HEP-QFT tut.
LOCATION:Lecture Room Euler
PRIORITY:3
TRANSP:0
END:VEVENT
BEGIN:VEVENT
DTSTART:20120316T150000Z
DTEND:20120316T163000Z
DCREATED:20120227T135841Z
UID:ATEvent-0ada5308df22063e6c361d35f3540113
SEQUENCE:0
LAST-MODIFIED:20120227T135841Z
SUMMARY:HEP-SM tut.
LOCATION:Lecture Room Euler
PRIORITY:3
TRANSP:0
END:VEVENT
END:VCALENDAR
