BEGIN:VCALENDAR
PRODID:-//ICTPDiploma//ATRoom//EN
VERSION:1.0
BEGIN:VEVENT
DTSTART:20140310T080000Z
DTEND:20140310T093000Z
DCREATED:20140213T133854Z
UID:ATEvent-7b5d3f6c2b93422780bcc25b17c8e370
SEQUENCE:0
LAST-MODIFIED:20140213T134017Z
SUMMARY:CMP-MBF
LOCATION:Lecture Room Euler
PRIORITY:3
TRANSP:0
END:VEVENT
BEGIN:VEVENT
DTSTART:20140313T080000Z
DTEND:20140313T093000Z
DCREATED:20131218T132325Z
UID:ATEvent-e32436e9171d4ba7a654ea0ef8622497
SEQUENCE:0
LAST-MODIFIED:20131218T132325Z
SUMMARY:CMP-ES
LOCATION:Lecture Room Euler
PRIORITY:3
TRANSP:0
END:VEVENT
BEGIN:VEVENT
DTSTART:20140314T080000Z
DTEND:20140314T093000Z
DCREATED:20131218T132324Z
UID:ATEvent-65f8a5cd85ef4b87b526fcfe72f34303
SEQUENCE:0
LAST-MODIFIED:20140311T134433Z
SUMMARY:CMP-ES
LOCATION:Lecture Room Euler
PRIORITY:3
TRANSP:0
END:VEVENT
BEGIN:VEVENT
DTSTART:20140310T100000Z
DTEND:20140310T113000Z
DCREATED:20140213T134025Z
UID:ATEvent-7917db35a17e436880f4736c787c3ae5
SEQUENCE:0
LAST-MODIFIED:20140213T134054Z
SUMMARY:EXAM
LOCATION:Lecture Room Euler
PRIORITY:3
TRANSP:0
END:VEVENT
BEGIN:VEVENT
DTSTART:20140311T100000Z
DTEND:20140311T113000Z
DCREATED:20131216T141105Z
UID:ATEvent-18436796fa8c45769cd9f8e4b3b6aa89
SEQUENCE:0
LAST-MODIFIED:20131216T141105Z
SUMMARY:HEP-QFT
LOCATION:Lecture Room Euler
PRIORITY:3
TRANSP:0
END:VEVENT
BEGIN:VEVENT
DTSTART:20140312T100000Z
DTEND:20140312T113000Z
DCREATED:20131216T141559Z
UID:ATEvent-8dd2fdd60a734fc8b0b813d759186547
SEQUENCE:0
LAST-MODIFIED:20140131T145534Z
SUMMARY:HEP-SM tut.
LOCATION:Lecture Room Euler
PRIORITY:3
TRANSP:0
END:VEVENT
BEGIN:VEVENT
DTSTART:20140313T100000Z
DTEND:20140313T113000Z
DCREATED:20131216T141105Z
UID:ATEvent-f0c1ab51185b4d3a8806cf66dc64c638
SEQUENCE:0
LAST-MODIFIED:20131216T141105Z
SUMMARY:HEP-QFT
LOCATION:Lecture Room Euler
PRIORITY:3
TRANSP:0
END:VEVENT
BEGIN:VEVENT
DTSTART:20140314T100000Z
DTEND:20140314T113000Z
DCREATED:20131216T141559Z
UID:ATEvent-37f79fd5ce7544f59e22c9d1007adba8
SEQUENCE:0
LAST-MODIFIED:20140131T132209Z
SUMMARY:HEP-SM
LOCATION:Lecture Room Euler
PRIORITY:3
TRANSP:0
END:VEVENT
BEGIN:VEVENT
DTSTART:20140310T130000Z
DTEND:20140310T143000Z
DCREATED:20131216T141411Z
UID:ATEvent-b7b260cfeaff4abbb393c12d25c5137d
SEQUENCE:0
LAST-MODIFIED:20131216T141411Z
SUMMARY:HEP-GR
LOCATION:Lecture Room Euler
PRIORITY:3
TRANSP:0
END:VEVENT
BEGIN:VEVENT
DTSTART:20140311T130000Z
DTEND:20140311T143000Z
DCREATED:20140122T155108Z
UID:ATEvent-609abd445a7d4d4eb1c2588e5890ecbc
SEQUENCE:0
LAST-MODIFIED:20140122T155128Z
SUMMARY:HEP-GR tut.
LOCATION:Lecture Room Euler
PRIORITY:3
TRANSP:0
END:VEVENT
BEGIN:VEVENT
DTSTART:20140312T130000Z
DTEND:20140312T143000Z
DCREATED:20131216T141411Z
UID:ATEvent-2a631cdfbd12483ea060f9c5d954c88a
SEQUENCE:0
LAST-MODIFIED:20131216T141411Z
SUMMARY:HEP-GR
LOCATION:Lecture Room Euler
PRIORITY:3
TRANSP:0
END:VEVENT
BEGIN:VEVENT
DTSTART:20140314T130000Z
DTEND:20140314T143000Z
DCREATED:20131216T141411Z
UID:ATEvent-d2082470634e443885f1cb3112dec3c9
SEQUENCE:0
LAST-MODIFIED:20131216T141412Z
SUMMARY:HEP-GR
LOCATION:Lecture Room Euler
PRIORITY:3
TRANSP:0
END:VEVENT
BEGIN:VEVENT
DTSTART:20140310T150000Z
DTEND:20140310T163000Z
DCREATED:20140131T131728Z
UID:ATEvent-faaae2ca0477427b8c2c6557fcfe3503
SEQUENCE:0
LAST-MODIFIED:20140131T131728Z
SUMMARY:HEP-SM
LOCATION:Lecture Room Euler
PRIORITY:3
TRANSP:0
END:VEVENT
BEGIN:VEVENT
DTSTART:20140314T150000Z
DTEND:20140314T163000Z
DCREATED:20140130T141210Z
UID:ATEvent-6439ea51032747dc9a7e7818b940be2b
SEQUENCE:0
LAST-MODIFIED:20140130T141210Z
SUMMARY:HEP-QFT tut.
LOCATION:Lecture Room Euler
PRIORITY:3
TRANSP:0
END:VEVENT
END:VCALENDAR
