BEGIN:VCALENDAR
PRODID:-//ICTPDiploma//ATRoom//EN
VERSION:1.0
BEGIN:VEVENT
DTSTART:20110228T100000Z
DTEND:20110228T113000Z
DCREATED:20110121T091648Z
UID:ATEvent-9e544168d4862990e2a48de64176ad5d
SEQUENCE:0
LAST-MODIFIED:20110121T145953Z
SUMMARY:HEP-GR tut.
LOCATION:Lecture Room Euler
PRIORITY:3
TRANSP:0
END:VEVENT
BEGIN:VEVENT
DTSTART:20110301T100000Z
DTEND:20110301T113000Z
DCREATED:20101221T152026Z
UID:ATEvent-b29b6707867d0903dedea769f19fa330
SEQUENCE:0
LAST-MODIFIED:20101221T152053Z
SUMMARY:HEP-QFT
LOCATION:Lecture Room Euler
PRIORITY:3
TRANSP:0
END:VEVENT
BEGIN:VEVENT
DTSTART:20110303T100000Z
DTEND:20110303T113000Z
DCREATED:20101221T152103Z
UID:ATEvent-37bd9f77bdd882d54ea6f410c3dfc9b2
SEQUENCE:0
LAST-MODIFIED:20101221T152141Z
SUMMARY:HEP-QFT
LOCATION:Lecture Room Euler
PRIORITY:3
TRANSP:0
END:VEVENT
BEGIN:VEVENT
DTSTART:20110301T130000Z
DTEND:20110301T143000Z
DCREATED:20101221T151921Z
UID:ATEvent-32cb00eb345c4e14098b1fe63b8fe18f
SEQUENCE:0
LAST-MODIFIED:20110121T091632Z
SUMMARY:HEP-GR
LOCATION:Lecture Room Euler
PRIORITY:3
TRANSP:0
END:VEVENT
BEGIN:VEVENT
DTSTART:20110303T130000Z
DTEND:20110303T143000Z
DCREATED:20101221T152249Z
UID:ATEvent-d627a4b9f2d53a2a8f7ca482713b2b10
SEQUENCE:0
LAST-MODIFIED:20110121T150311Z
SUMMARY:HEP-SM
LOCATION:Lecture Room Euler
PRIORITY:3
TRANSP:0
END:VEVENT
BEGIN:VEVENT
DTSTART:20110304T130000Z
DTEND:20110304T143000Z
DCREATED:20101221T151954Z
UID:ATEvent-9885e1804dfd4b7bc1daae010af78b0d
SEQUENCE:0
LAST-MODIFIED:20110121T091613Z
SUMMARY:HEP-GR
LOCATION:Lecture Room Euler
PRIORITY:3
TRANSP:0
END:VEVENT
BEGIN:VEVENT
DTSTART:20110302T150000Z
DTEND:20110302T163000Z
DCREATED:20110214T130821Z
UID:ATEvent-8e2c7b27fae064d1fd3eabb6ee5a1f8c
SEQUENCE:0
LAST-MODIFIED:20110214T130843Z
SUMMARY:HEP-SM tut.
LOCATION:Lecture Room Euler
PRIORITY:3
TRANSP:0
END:VEVENT
BEGIN:VEVENT
DTSTART:20110304T150000Z
DTEND:20110304T163000Z
DCREATED:20110221T111703Z
UID:ATEvent-20c493f53a763d126cb800d2e87b6113
SEQUENCE:0
LAST-MODIFIED:20110221T111732Z
SUMMARY:HEP-QFT tut.
LOCATION:Lecture Room Euler
PRIORITY:3
TRANSP:0
END:VEVENT
END:VCALENDAR
