BEGIN:VCALENDAR
PRODID:-//ICTPDiploma//ATRoom//EN
VERSION:1.0
BEGIN:VEVENT
DTSTART:20220222T080000Z
DTEND:20220222T093000Z
DCREATED:20220214T155344Z
UID:ATEvent-fa0880db86024b8d86fa2dbd1e843380
SEQUENCE:0
LAST-MODIFIED:20220215T093729Z
SUMMARY:HEP-QFT II tut.
LOCATION:Lecture Room Euler
PRIORITY:3
TRANSP:0
END:VEVENT
BEGIN:VEVENT
DTSTART:20220221T100000Z
DTEND:20220221T113000Z
DCREATED:20220119T104454Z
UID:ATEvent-bfd8239a1d7b4874b903f53174bf3185
SEQUENCE:0
LAST-MODIFIED:20220119T104454Z
SUMMARY:HEP-SM I
LOCATION:Lecture Room Euler
PRIORITY:3
TRANSP:0
END:VEVENT
BEGIN:VEVENT
DTSTART:20220222T100000Z
DTEND:20220222T113000Z
DCREATED:20220119T104454Z
UID:ATEvent-c03e93f5092045f4adcf9d1e17ca1a07
SEQUENCE:0
LAST-MODIFIED:20220119T104454Z
SUMMARY:HEP-SM I
LOCATION:Lecture Room Euler
PRIORITY:3
TRANSP:0
END:VEVENT
BEGIN:VEVENT
DTSTART:20220224T100000Z
DTEND:20220224T113000Z
DCREATED:20220119T104454Z
UID:ATEvent-f98ed22da1ff4863a1e2c596aa91bf88
SEQUENCE:0
LAST-MODIFIED:20220119T104454Z
SUMMARY:HEP-SM I
LOCATION:Lecture Room Euler
PRIORITY:3
TRANSP:0
END:VEVENT
BEGIN:VEVENT
DTSTART:20220225T100000Z
DTEND:20220225T113000Z
DCREATED:20220119T104454Z
UID:ATEvent-c676f00f7a2546c4a1b4abad16cb56ac
SEQUENCE:0
LAST-MODIFIED:20220119T104454Z
SUMMARY:HEP-SM I
LOCATION:Lecture Room Euler
PRIORITY:3
TRANSP:0
END:VEVENT
BEGIN:VEVENT
DTSTART:20220221T130000Z
DTEND:20220221T143000Z
DCREATED:20211221T110812Z
UID:ATEvent-cf4e2cbc3ca14b4c91ad26b47d4f82a4
SEQUENCE:0
LAST-MODIFIED:20220114T145336Z
SUMMARY:
LOCATION:Lecture Room Euler
PRIORITY:3
TRANSP:0
END:VEVENT
BEGIN:VEVENT
DTSTART:20220223T130000Z
DTEND:20220223T143000Z
DCREATED:20220215T161026Z
UID:ATEvent-f26d22a64b8541728144d2f31513d7c8
SEQUENCE:0
LAST-MODIFIED:20220215T161026Z
SUMMARY:HEP-SM tut.
LOCATION:Lecture Room Euler
PRIORITY:3
TRANSP:0
END:VEVENT
BEGIN:VEVENT
DTSTART:20220221T150000Z
DTEND:20220221T163000Z
DCREATED:20211221T110836Z
UID:ATEvent-d4c090bbf811401e89a5950a5811caaf
SEQUENCE:0
LAST-MODIFIED:20220114T145402Z
SUMMARY:
LOCATION:Lecture Room Euler
PRIORITY:3
TRANSP:0
END:VEVENT
BEGIN:VEVENT
DTSTART:20220222T150000Z
DTEND:20220222T163000Z
DCREATED:20220110T153058Z
UID:ATEvent-4e1ff21cec0f4320b94e00b4d892b7d6
SEQUENCE:0
LAST-MODIFIED:20220110T153121Z
SUMMARY:HEP-QFT II
LOCATION:Lecture Room Euler
PRIORITY:3
TRANSP:0
END:VEVENT
BEGIN:VEVENT
DTSTART:20220223T150000Z
DTEND:20220223T163000Z
DCREATED:20211221T110916Z
UID:ATEvent-1165a3cecd144592b059dd2521536e58
SEQUENCE:0
LAST-MODIFIED:20211221T110936Z
SUMMARY:15:30
LOCATION:Lecture Room Euler
PRIORITY:3
TRANSP:0
END:VEVENT
BEGIN:VEVENT
DTSTART:20220224T150000Z
DTEND:20220224T163000Z
DCREATED:20220110T152458Z
UID:ATEvent-ae3bff3546bb4e1eab87c73525578c6d
SEQUENCE:0
LAST-MODIFIED:20220114T145200Z
SUMMARY:HEP-QFT II
LOCATION:Lecture Room Euler
PRIORITY:3
TRANSP:0
END:VEVENT
BEGIN:VEVENT
DTSTART:20220225T150000Z
DTEND:20220225T163000Z
DCREATED:20220110T152526Z
UID:ATEvent-35eea091964b4b909b8c68be509c0eb2
SEQUENCE:0
LAST-MODIFIED:20220110T152555Z
SUMMARY:HEP-QFT II
LOCATION:Lecture Room Euler
PRIORITY:3
TRANSP:0
END:VEVENT
END:VCALENDAR
