BEGIN:VCALENDAR
PRODID:-//ICTPDiploma//ATRoom//EN
VERSION:1.0
BEGIN:VEVENT
DTSTART:20140224T080000Z
DTEND:20140224T093000Z
DCREATED:20131218T132152Z
UID:ATEvent-80c0694d746c4615b2a97c54a71487fc
SEQUENCE:0
LAST-MODIFIED:20131218T132153Z
SUMMARY:CMP-MBP
LOCATION:Lecture Room Euler
PRIORITY:3
TRANSP:0
END:VEVENT
BEGIN:VEVENT
DTSTART:20140225T080000Z
DTEND:20140225T093000Z
DCREATED:20140122T155108Z
UID:ATEvent-fafaad47cb7a476ba61dcd9a0d6a0e50
SEQUENCE:0
LAST-MODIFIED:20140122T155108Z
SUMMARY:HEP-GR tut.
LOCATION:Lecture Room Euler
PRIORITY:3
TRANSP:0
END:VEVENT
BEGIN:VEVENT
DTSTART:20140226T080000Z
DTEND:20140226T093000Z
DCREATED:20131218T132153Z
UID:ATEvent-32b0092884fe4337a1769addf330876f
SEQUENCE:0
LAST-MODIFIED:20131218T132153Z
SUMMARY:CMP-MBP
LOCATION:Lecture Room Euler
PRIORITY:3
TRANSP:0
END:VEVENT
BEGIN:VEVENT
DTSTART:20140228T080000Z
DTEND:20140228T093000Z
DCREATED:20131218T132153Z
UID:ATEvent-1959c320c9cb48978f18e155e35ec045
SEQUENCE:0
LAST-MODIFIED:20131218T132153Z
SUMMARY:CMP-MBP
LOCATION:Lecture Room Euler
PRIORITY:3
TRANSP:0
END:VEVENT
BEGIN:VEVENT
DTSTART:20140225T100000Z
DTEND:20140225T113000Z
DCREATED:20131216T141104Z
UID:ATEvent-51d435f7e07544978ec226c88aa8bd41
SEQUENCE:0
LAST-MODIFIED:20131216T141104Z
SUMMARY:HEP-QFT
LOCATION:Lecture Room Euler
PRIORITY:3
TRANSP:0
END:VEVENT
BEGIN:VEVENT
DTSTART:20140226T100000Z
DTEND:20140226T113000Z
DCREATED:20131216T141558Z
UID:ATEvent-bda41493eaf941739d929837659d58cb
SEQUENCE:0
LAST-MODIFIED:20140131T145436Z
SUMMARY:HEP-SM tut.
LOCATION:Lecture Room Euler
PRIORITY:3
TRANSP:0
END:VEVENT
BEGIN:VEVENT
DTSTART:20140227T100000Z
DTEND:20140227T113000Z
DCREATED:20131216T141104Z
UID:ATEvent-ec5350ea6f254bf68d797cc255fee8a8
SEQUENCE:0
LAST-MODIFIED:20131216T141104Z
SUMMARY:HEP-QFT
LOCATION:Lecture Room Euler
PRIORITY:3
TRANSP:0
END:VEVENT
BEGIN:VEVENT
DTSTART:20140228T100000Z
DTEND:20140228T113000Z
DCREATED:20131216T141558Z
UID:ATEvent-caae6b92501142f187f6099103dee6a1
SEQUENCE:0
LAST-MODIFIED:20140131T132313Z
SUMMARY:HEP-SM
LOCATION:Lecture Room Euler
PRIORITY:3
TRANSP:0
END:VEVENT
BEGIN:VEVENT
DTSTART:20140224T130000Z
DTEND:20140224T143000Z
DCREATED:20131216T141411Z
UID:ATEvent-27a793c1c9df456aa2ff7690e66e42d6
SEQUENCE:0
LAST-MODIFIED:20140221T074052Z
SUMMARY:HEP-GR
LOCATION:Lecture Room Euler
PRIORITY:3
TRANSP:0
END:VEVENT
BEGIN:VEVENT
DTSTART:20140226T130000Z
DTEND:20140226T143000Z
DCREATED:20131216T141411Z
UID:ATEvent-ca94473a54854e7c9ae9ae19c7d5c93d
SEQUENCE:0
LAST-MODIFIED:20131216T141411Z
SUMMARY:HEP-GR
LOCATION:Lecture Room Euler
PRIORITY:3
TRANSP:0
END:VEVENT
BEGIN:VEVENT
DTSTART:20140228T130000Z
DTEND:20140228T143000Z
DCREATED:20131216T141411Z
UID:ATEvent-b5f2db8db17540c6a8905b43204e74ca
SEQUENCE:0
LAST-MODIFIED:20131216T141411Z
SUMMARY:HEP-GR
LOCATION:Lecture Room Euler
PRIORITY:3
TRANSP:0
END:VEVENT
BEGIN:VEVENT
DTSTART:20140224T150000Z
DTEND:20140224T163000Z
DCREATED:20140131T131727Z
UID:ATEvent-094b22a354534e869ef09350c3317378
SEQUENCE:0
LAST-MODIFIED:20140221T074040Z
SUMMARY:HEP-SM
LOCATION:Lecture Room Euler
PRIORITY:3
TRANSP:0
END:VEVENT
BEGIN:VEVENT
DTSTART:20140228T150000Z
DTEND:20140228T163000Z
DCREATED:20140130T141210Z
UID:ATEvent-af4d2caf12bf48a09aa8175959bc1012
SEQUENCE:0
LAST-MODIFIED:20140130T141210Z
SUMMARY:HEP-QFT tut.
LOCATION:Lecture Room Euler
PRIORITY:3
TRANSP:0
END:VEVENT
END:VCALENDAR
