BEGIN:VCALENDAR
PRODID:-//ICTPDiploma//ATRoom//EN
VERSION:1.0
BEGIN:VEVENT
DTSTART:20140217T080000Z
DTEND:20140217T093000Z
DCREATED:20131218T132152Z
UID:ATEvent-10524cdbc4ce4428b17761cc650dc1a6
SEQUENCE:0
LAST-MODIFIED:20131218T132152Z
SUMMARY:CMP-MBP
LOCATION:Lecture Room Euler
PRIORITY:3
TRANSP:0
END:VEVENT
BEGIN:VEVENT
DTSTART:20140218T080000Z
DTEND:20140218T093000Z
DCREATED:20140122T155108Z
UID:ATEvent-2f051b7a3f174df6bea13e86d9413735
SEQUENCE:0
LAST-MODIFIED:20140122T155108Z
SUMMARY:HEP-GR tut.
LOCATION:Lecture Room Euler
PRIORITY:3
TRANSP:0
END:VEVENT
BEGIN:VEVENT
DTSTART:20140219T080000Z
DTEND:20140219T093000Z
DCREATED:20131218T132152Z
UID:ATEvent-cb8281a3ede440c48f34dcf28f349e48
SEQUENCE:0
LAST-MODIFIED:20131218T132152Z
SUMMARY:CMP-MBP
LOCATION:Lecture Room Euler
PRIORITY:3
TRANSP:0
END:VEVENT
BEGIN:VEVENT
DTSTART:20140221T080000Z
DTEND:20140221T093000Z
DCREATED:20131218T132152Z
UID:ATEvent-7d63a547d00846a593fe361279ed6505
SEQUENCE:0
LAST-MODIFIED:20131218T132152Z
SUMMARY:CMP-MBP
LOCATION:Lecture Room Euler
PRIORITY:3
TRANSP:0
END:VEVENT
BEGIN:VEVENT
DTSTART:20140218T100000Z
DTEND:20140218T113000Z
DCREATED:20131216T141104Z
UID:ATEvent-8cd5e8efcdd54ee9a7439408335233b8
SEQUENCE:0
LAST-MODIFIED:20131216T141104Z
SUMMARY:HEP-QFT
LOCATION:Lecture Room Euler
PRIORITY:3
TRANSP:0
END:VEVENT
BEGIN:VEVENT
DTSTART:20140219T100000Z
DTEND:20140219T113000Z
DCREATED:20131216T141558Z
UID:ATEvent-ecc5be84bf1049e6a4927d4b25091b32
SEQUENCE:0
LAST-MODIFIED:20140131T145301Z
SUMMARY:HEP-SM tut.
LOCATION:Lecture Room Euler
PRIORITY:3
TRANSP:0
END:VEVENT
BEGIN:VEVENT
DTSTART:20140220T100000Z
DTEND:20140220T113000Z
DCREATED:20131216T141104Z
UID:ATEvent-2f6acba2701d4af890151c431c2590fe
SEQUENCE:0
LAST-MODIFIED:20131216T141104Z
SUMMARY:HEP-QFT
LOCATION:Lecture Room Euler
PRIORITY:3
TRANSP:0
END:VEVENT
BEGIN:VEVENT
DTSTART:20140221T100000Z
DTEND:20140221T113000Z
DCREATED:20131216T141558Z
UID:ATEvent-0cba4369b988423d9e0a31847087f75b
SEQUENCE:0
LAST-MODIFIED:20140131T132345Z
SUMMARY:HEP-SM
LOCATION:Lecture Room Euler
PRIORITY:3
TRANSP:0
END:VEVENT
BEGIN:VEVENT
DTSTART:20140217T130000Z
DTEND:20140217T143000Z
DCREATED:20131216T141410Z
UID:ATEvent-cdd2eaa2550c47b49ce3a0f91aaf8196
SEQUENCE:0
LAST-MODIFIED:20131216T141410Z
SUMMARY:HEP-GR
LOCATION:Lecture Room Euler
PRIORITY:3
TRANSP:0
END:VEVENT
BEGIN:VEVENT
DTSTART:20140219T130000Z
DTEND:20140219T143000Z
DCREATED:20131216T141410Z
UID:ATEvent-762488bc6eab4f278ce5d6a8c5e2b95f
SEQUENCE:0
LAST-MODIFIED:20131216T141410Z
SUMMARY:HEP-GR
LOCATION:Lecture Room Euler
PRIORITY:3
TRANSP:0
END:VEVENT
BEGIN:VEVENT
DTSTART:20140220T130000Z
DTEND:20140220T143000Z
DCREATED:20140213T130422Z
UID:ATEvent-4dba475ba1144ad0bb55485746fb7c9b
SEQUENCE:0
LAST-MODIFIED:20140213T130458Z
SUMMARY:CMP-MBP tut. (2)
LOCATION:Lecture Room Euler
PRIORITY:3
TRANSP:0
END:VEVENT
BEGIN:VEVENT
DTSTART:20140221T130000Z
DTEND:20140221T143000Z
DCREATED:20131216T141410Z
UID:ATEvent-909d6aa0384f41248a3f0f9fd9c35b5d
SEQUENCE:0
LAST-MODIFIED:20131216T141410Z
SUMMARY:HEP-GR
LOCATION:Lecture Room Euler
PRIORITY:3
TRANSP:0
END:VEVENT
BEGIN:VEVENT
DTSTART:20140217T150000Z
DTEND:20140217T163000Z
DCREATED:20140131T131727Z
UID:ATEvent-36fbc6544aa64fb28582c0c1b28ddc79
SEQUENCE:0
LAST-MODIFIED:20140131T131727Z
SUMMARY:HEP-SM
LOCATION:Lecture Room Euler
PRIORITY:3
TRANSP:0
END:VEVENT
BEGIN:VEVENT
DTSTART:20140221T150000Z
DTEND:20140221T163000Z
DCREATED:20140130T141209Z
UID:ATEvent-a1aa373f50794afb94f152520854a835
SEQUENCE:0
LAST-MODIFIED:20140130T141209Z
SUMMARY:HEP-QFT tut.
LOCATION:Lecture Room Euler
PRIORITY:3
TRANSP:0
END:VEVENT
END:VCALENDAR
