BEGIN:VCALENDAR
PRODID:-//ICTPDiploma//ATRoom//EN
VERSION:1.0
BEGIN:VEVENT
DTSTART:20180130T100000Z
DTEND:20180130T113000Z
DCREATED:20180122T083933Z
UID:ATEvent-3e7b4bc29a9946d8adebf1ec0df2ed8e
SEQUENCE:0
LAST-MODIFIED:20180122T083933Z
SUMMARY:HEP-QFT tut.
LOCATION:Lecture Room Euler
PRIORITY:3
TRANSP:0
END:VEVENT
BEGIN:VEVENT
DTSTART:20180202T100000Z
DTEND:20180202T113000Z
DCREATED:20180129T145309Z
UID:ATEvent-1fb34b5e9cbc4f9bb8c872292a5bab0a
SEQUENCE:0
LAST-MODIFIED:20180213T115132Z
SUMMARY:MTH-ODS tut.
LOCATION:Lecture Room Euler
PRIORITY:3
TRANSP:0
END:VEVENT
BEGIN:VEVENT
DTSTART:20180130T130000Z
DTEND:20180130T143000Z
DCREATED:20171123T152249Z
UID:ATEvent-1c04fe4f8ae946e1a7a56f3f2fc48aea
SEQUENCE:0
LAST-MODIFIED:20171123T152249Z
SUMMARY:HEP-GR
LOCATION:Lecture Room Euler
PRIORITY:3
TRANSP:0
END:VEVENT
BEGIN:VEVENT
DTSTART:20180131T130000Z
DTEND:20180131T143000Z
DCREATED:20171123T152249Z
UID:ATEvent-1101f5678c4f44ba9c34b3d51785e1e8
SEQUENCE:0
LAST-MODIFIED:20171123T152249Z
SUMMARY:HEP-GR
LOCATION:Lecture Room Euler
PRIORITY:3
TRANSP:0
END:VEVENT
BEGIN:VEVENT
DTSTART:20180202T130000Z
DTEND:20180202T143000Z
DCREATED:20171123T152249Z
UID:ATEvent-191795c0b06748e6ac8311635da21f6a
SEQUENCE:0
LAST-MODIFIED:20180226T152355Z
SUMMARY:HEP-GR tut. (2)
LOCATION:Lecture Room Euler
PRIORITY:3
TRANSP:0
END:VEVENT
BEGIN:VEVENT
DTSTART:20180129T150000Z
DTEND:20180129T163000Z
DCREATED:20171123T151946Z
UID:ATEvent-d035cc1e51034d499c2748d74e7a95f2
SEQUENCE:0
LAST-MODIFIED:20171123T151946Z
SUMMARY:HEP-QFT
LOCATION:Lecture Room Euler
PRIORITY:3
TRANSP:0
END:VEVENT
BEGIN:VEVENT
DTSTART:20180201T150000Z
DTEND:20180201T163000Z
DCREATED:20171123T151946Z
UID:ATEvent-e77f6663dc51498a91d75db1a86cb7c3
SEQUENCE:0
LAST-MODIFIED:20171123T151946Z
SUMMARY:HEP-QFT
LOCATION:Lecture Room Euler
PRIORITY:3
TRANSP:0
END:VEVENT
END:VCALENDAR
