BEGIN:VCALENDAR
PRODID:-//ICTPDiploma//ATRoom//EN
VERSION:1.0
BEGIN:VEVENT
DTSTART:20100115T130000Z
DTEND:20100115T143000Z
DCREATED:20091217T090933Z
UID:ATEvent-b09fd64f257ac7951661fe08de5c28a9
SEQUENCE:0
LAST-MODIFIED:20100112T142358Z
SUMMARY:14:30 HEP-QED
LOCATION:Lecture Room Euler
PRIORITY:3
TRANSP:0
END:VEVENT
BEGIN:VEVENT
DTSTART:20100115T150000Z
DTEND:20100115T163000Z
DCREATED:20091217T091014Z
UID:ATEvent-4dad82b497baec1e5e3205199abfdded
SEQUENCE:0
LAST-MODIFIED:20100112T142307Z
SUMMARY:EXAM
LOCATION:Lecture Room Euler
PRIORITY:3
TRANSP:0
END:VEVENT
END:VCALENDAR
