BEGIN:VCALENDAR
PRODID:-//AT Content Types//AT Event//EN
VERSION:2.0
METHOD:PUBLISH
BEGIN:VEVENT
DTSTAMP:20260426T013341Z
CREATED:20110216T140019Z
UID:ATEvent-fd5038d115954cb1732af42ead1d8472
LAST-MODIFIED:20110216T140053Z
SUMMARY:Republic's Day
DTSTART:20110602T120000Z
DTEND:20110602T133000Z
LOCATION:Lecture Room Euler
URL:https://diploma-clear.ictp.it/courses/weekly-schedule/lecture-room-euler/republics-day
CLASS:PUBLIC
END:VEVENT
END:VCALENDAR
