BEGIN:VCALENDAR
PRODID:-//AT Content Types//AT Event//EN
VERSION:2.0
METHOD:PUBLISH
BEGIN:VEVENT
DTSTAMP:20260421T071448Z
CREATED:20210429T122925Z
UID:ATEvent-1773b1f2a7dd4765a2b2f1f8cf639574
LAST-MODIFIED:20210429T122951Z
SUMMARY:QLS-ML
DTSTART:20210517T090000Z
DTEND:20210517T103000Z
LOCATION:Lecture Room Euler
CONTACT:J. Barbier
URL:https://diploma-clear.ictp.it/courses/weekly-schedule/lecture-room-euler/qls-ml-5
CLASS:PUBLIC
END:VEVENT
END:VCALENDAR
