BEGIN:VCALENDAR
PRODID:-//AT Content Types//AT Event//EN
VERSION:1.0
BEGIN:VEVENT
DTSTART:20210625T120000Z
DTEND:20210625T133000Z
DCREATED:20210618T091314Z
UID:ATEvent-5bc210a44c1649b6bbad6d63dc18bb83
SEQUENCE:0
LAST-MODIFIED:20210618T091343Z
SUMMARY:Prof. Don Zaiger
LOCATION:Lecture Room Euler
PRIORITY:3
TRANSP:0
END:VEVENT
END:VCALENDAR
