BEGIN:VCALENDAR
PRODID:-//AT Content Types//AT Event//EN
VERSION:2.0
METHOD:PUBLISH
BEGIN:VEVENT
DTSTAMP:20260421T233438Z
CREATED:20160427T094844Z
UID:ATEvent-39902481994a4315bdcf7ad6b91b1156
LAST-MODIFIED:20160427T094923Z
SUMMARY:official holiday
DTSTART:20160502T090000Z
DTEND:20160502T103000Z
LOCATION:Lecture Room Euler
URL:https://diploma-clear.ictp.it/courses/weekly-schedule/lecture-room-euler/official-holiday-11
CLASS:PUBLIC
END:VEVENT
END:VCALENDAR
