BEGIN:VCALENDAR
PRODID:-//AT Content Types//AT Event//EN
VERSION:2.0
METHOD:PUBLISH
BEGIN:VEVENT
DTSTAMP:20260426T013339Z
CREATED:20100215T094010Z
UID:ATEvent-0942e0e75043dbc7f201a42b9546751e
LAST-MODIFIED:20100215T094026Z
SUMMARY:official
DTSTART:20100405T140000Z
DTEND:20100405T153000Z
LOCATION:Lecture Room Euler
URL:https://diploma-clear.ictp.it/courses/weekly-schedule/lecture-room-euler/official-3
CLASS:PUBLIC
END:VEVENT
END:VCALENDAR
