BEGIN:VCALENDAR
PRODID:-//AT Content Types//AT Event//EN
VERSION:2.0
METHOD:PUBLISH
BEGIN:VEVENT
DTSTAMP:20260422T195702Z
CREATED:20221114T110141Z
UID:ATEvent-8cc22dbd72c94758a2c0d644cea67f2d
LAST-MODIFIED:20221114T110141Z
SUMMARY:HEP-QFT II
DTSTART:20230208T150000Z
DTEND:20230208T163000Z
LOCATION:Lecture Room Euler
CONTACT:S. Randjbar-Daemi
URL:https://diploma-clear.ictp.it/courses/weekly-schedule/lecture-room-euler/lecture.2022-11-14.7017966377
CLASS:PUBLIC
END:VEVENT
END:VCALENDAR
