BEGIN:VCALENDAR
PRODID:-//AT Content Types//AT Event//EN
VERSION:1.0
BEGIN:VEVENT
DTSTART:20221104T100000Z
DTEND:20221104T113000Z
DCREATED:20221020T091247Z
UID:ATEvent-964c725a21564eb9933785f025464278
SEQUENCE:0
LAST-MODIFIED:20221020T091304Z
SUMMARY:EXAM
LOCATION:Lecture Room Euler
PRIORITY:3
TRANSP:0
END:VEVENT
END:VCALENDAR
