BEGIN:VCALENDAR
PRODID:-//AT Content Types//AT Event//EN
VERSION:1.0
BEGIN:VEVENT
DTSTART:20221116T100000Z
DTEND:20221116T113000Z
DCREATED:20220929T083935Z
UID:ATEvent-8131b0ac683840fe8f41292f7d71f669
SEQUENCE:0
LAST-MODIFIED:20220929T083936Z
SUMMARY:HEP-QFT I tut.
LOCATION:Lecture Room Euler
PRIORITY:3
TRANSP:0
END:VEVENT
END:VCALENDAR
