BEGIN:VCALENDAR
PRODID:-//AT Content Types//AT Event//EN
VERSION:1.0
BEGIN:VEVENT
DTSTART:20221215T080000Z
DTEND:20221215T093000Z
DCREATED:20220721T082305Z
UID:ATEvent-931fbdddf11648999ee65cff5ae3024c
SEQUENCE:0
LAST-MODIFIED:20220721T082305Z
SUMMARY:HEP-GR I
LOCATION:Lecture Room Euler
PRIORITY:3
TRANSP:0
END:VEVENT
END:VCALENDAR
