BEGIN:VCALENDAR
PRODID:-//AT Content Types//AT Event//EN
VERSION:2.0
METHOD:PUBLISH
BEGIN:VEVENT
DTSTAMP:20260421T104052Z
CREATED:20220721T082302Z
UID:ATEvent-ef5e43af043e42c9a6373a1c55919020
LAST-MODIFIED:20220721T082303Z
SUMMARY:HEP-GR I
DTSTART:20221114T080000Z
DTEND:20221114T093000Z
LOCATION:Lecture Room Euler
CONTACT:G. Thompson
URL:https://diploma-clear.ictp.it/courses/weekly-schedule/lecture-room-euler/lecture.2022-07-21.7829066757
CLASS:PUBLIC
END:VEVENT
END:VCALENDAR
