BEGIN:VCALENDAR
PRODID:-//AT Content Types//AT Event//EN
VERSION:1.0
BEGIN:VEVENT
DTSTART:20220324T100000Z
DTEND:20220324T113000Z
DCREATED:20220214T155345Z
UID:ATEvent-ba88fe8ad79043498e6a0f25d1b0c1ba
SEQUENCE:0
LAST-MODIFIED:20220301T081659Z
SUMMARY:HEP-QFT II tut.
LOCATION:Lecture Room Euler
PRIORITY:3
TRANSP:0
END:VEVENT
END:VCALENDAR
