BEGIN:VCALENDAR
PRODID:-//AT Content Types//AT Event//EN
VERSION:2.0
METHOD:PUBLISH
BEGIN:VEVENT
DTSTAMP:20260420T132652Z
CREATED:20220120T144829Z
UID:ATEvent-7ab7c4d606db49889bc7598682448a88
LAST-MODIFIED:20220512T080018Z
SUMMARY:HEP-SM II
DTSTART:20220513T140000Z
DTEND:20220513T153000Z
LOCATION:Lecture Room Euler
CONTACT:J. Elias Miro
URL:https://diploma-clear.ictp.it/courses/weekly-schedule/lecture-room-euler/lecture.2022-01-20.1094140192
CLASS:PUBLIC
END:VEVENT
END:VCALENDAR
