BEGIN:VCALENDAR
PRODID:-//AT Content Types//AT Event//EN
VERSION:1.0
BEGIN:VEVENT
DTSTART:20220511T070000Z
DTEND:20220511T083000Z
DCREATED:20220120T144829Z
UID:ATEvent-86531735ae8046cfa391e2149fe9ec98
SEQUENCE:0
LAST-MODIFIED:20220120T144829Z
SUMMARY:HEP-SM II
LOCATION:Lecture Room Euler
PRIORITY:3
TRANSP:0
END:VEVENT
END:VCALENDAR
