BEGIN:VCALENDAR
PRODID:-//AT Content Types//AT Event//EN
VERSION:2.0
METHOD:PUBLISH
BEGIN:VEVENT
DTSTAMP:20260422T164938Z
CREATED:20220120T144828Z
UID:ATEvent-9b67edf918af48a495877ca9d47ebd08
LAST-MODIFIED:20220120T144828Z
SUMMARY:HEP-SM II
DTSTART:20220504T070000Z
DTEND:20220504T083000Z
LOCATION:Lecture Room Euler
CONTACT:J. Elias Miro
URL:https://diploma-clear.ictp.it/courses/weekly-schedule/lecture-room-euler/lecture.2022-01-20.1086420147
CLASS:PUBLIC
END:VEVENT
END:VCALENDAR
