BEGIN:VCALENDAR
PRODID:-//AT Content Types//AT Event//EN
VERSION:2.0
METHOD:PUBLISH
BEGIN:VEVENT
DTSTAMP:20260423T021021Z
CREATED:20220114T105914Z
UID:ATEvent-d62d4ea667b74b66a01a279c289412b2
LAST-MODIFIED:20220114T105914Z
SUMMARY:HEP-GR II
DTSTART:20220520T090000Z
DTEND:20220520T103000Z
LOCATION:Lecture Room Euler
CONTACT:M. Mirbabayi
URL:https://diploma-clear.ictp.it/courses/weekly-schedule/lecture-room-euler/lecture.2022-01-14.9543964990
CLASS:PUBLIC
END:VEVENT
END:VCALENDAR
