BEGIN:VCALENDAR
PRODID:-//AT Content Types//AT Event//EN
VERSION:2.0
METHOD:PUBLISH
BEGIN:VEVENT
DTSTAMP:20260421T133703Z
CREATED:20211206T132001Z
UID:ATEvent-1489413d24884a738b191a39ce674310
LAST-MODIFIED:20211206T132027Z
SUMMARY:HEP-GR
DTSTART:20211210T150000Z
DTEND:20211210T163000Z
LOCATION:Lecture Room Euler
CONTACT:P. Creminelli
URL:https://diploma-clear.ictp.it/courses/weekly-schedule/lecture-room-euler/lecture.2021-12-06.8010858966
CLASS:PUBLIC
END:VEVENT
END:VCALENDAR
