BEGIN:VCALENDAR
PRODID:-//AT Content Types//AT Event//EN
VERSION:2.0
METHOD:PUBLISH
BEGIN:VEVENT
DTSTAMP:20260419T202647Z
CREATED:20211111T092632Z
UID:ATEvent-39af4d9c966449a3aab63b4acfc4edac
LAST-MODIFIED:20211111T092632Z
SUMMARY:HEP-QFT I tut.
DTSTART:20220113T100000Z
DTEND:20220113T113000Z
LOCATION:Lecture Room Euler
CONTACT:M. Gumus
URL:https://diploma-clear.ictp.it/courses/weekly-schedule/lecture-room-euler/lecture.2021-11-11.7924776926
CLASS:PUBLIC
END:VEVENT
END:VCALENDAR
