BEGIN:VCALENDAR
PRODID:-//AT Content Types//AT Event//EN
VERSION:1.0
BEGIN:VEVENT
DTSTART:20211122T100000Z
DTEND:20211122T113000Z
DCREATED:20210804T132441Z
UID:ATEvent-c77cb8817ab24412a401221795ba780a
SEQUENCE:0
LAST-MODIFIED:20210804T132706Z
SUMMARY:HEP-GR I
LOCATION:Lecture Room Euler
PRIORITY:3
TRANSP:0
END:VEVENT
END:VCALENDAR
