BEGIN:VCALENDAR
PRODID:-//AT Content Types//AT Event//EN
VERSION:2.0
METHOD:PUBLISH
BEGIN:VEVENT
DTSTAMP:20260420T224449Z
CREATED:20210729T125441Z
UID:ATEvent-0fd6bf519e5f4ca5a7b37422ba5e6f84
LAST-MODIFIED:20210729T125441Z
SUMMARY:HEP-QM
DTSTART:20211012T090000Z
DTEND:20211012T103000Z
LOCATION:Lecture Room Euler
CONTACT:K.S. Narain
URL:https://diploma-clear.ictp.it/courses/weekly-schedule/lecture-room-euler/lecture.2021-07-29.2814740542
CLASS:PUBLIC
END:VEVENT
END:VCALENDAR
