BEGIN:VCALENDAR
PRODID:-//AT Content Types//AT Event//EN
VERSION:2.0
METHOD:PUBLISH
BEGIN:VEVENT
DTSTAMP:20260420T224506Z
CREATED:20210728T124116Z
UID:ATEvent-4af6d854b6a04cfeb07443eff51f53fe
LAST-MODIFIED:20210728T124116Z
SUMMARY:HEP-QFT I
DTSTART:20211126T130000Z
DTEND:20211126T143000Z
LOCATION:Lecture Room Euler
CONTACT:G. Villadoro
URL:https://diploma-clear.ictp.it/courses/weekly-schedule/lecture-room-euler/lecture.2021-07-28.0763605242
CLASS:PUBLIC
END:VEVENT
END:VCALENDAR
