BEGIN:VCALENDAR
PRODID:-//AT Content Types//AT Event//EN
VERSION:2.0
METHOD:PUBLISH
BEGIN:VEVENT
DTSTAMP:20260420T143623Z
CREATED:20201222T101212Z
UID:ATEvent-f11150ae4ff74ababa436cebfaa12f79
LAST-MODIFIED:20201222T101212Z
SUMMARY:HEP-SM
DTSTART:20210326T100000Z
DTEND:20210326T113000Z
LOCATION:Lecture Room Euler
CONTACT:G. Senjanovic
URL:https://diploma-clear.ictp.it/courses/weekly-schedule/lecture-room-euler/lecture.2020-12-22.9320186320
CLASS:PUBLIC
END:VEVENT
END:VCALENDAR
