BEGIN:VCALENDAR
PRODID:-//AT Content Types//AT Event//EN
VERSION:1.0
BEGIN:VEVENT
DTSTART:20210128T150000Z
DTEND:20210128T163000Z
DCREATED:20201217T134617Z
UID:ATEvent-40b9ad21d269448c89e5d0c569cec304
SEQUENCE:0
LAST-MODIFIED:20201217T134618Z
SUMMARY:Abdus Salam Distinguished Lectures
LOCATION:Lecture Room Euler
PRIORITY:3
TRANSP:0
END:VEVENT
END:VCALENDAR
