BEGIN:VCALENDAR
PRODID:-//AT Content Types//AT Event//EN
VERSION:2.0
METHOD:PUBLISH
BEGIN:VEVENT
DTSTAMP:20260423T184403Z
CREATED:20201208T122339Z
UID:ATEvent-efc78fa97965444da4dc770eb867f924
LAST-MODIFIED:20201208T122339Z
SUMMARY:HEP-GR II
DTSTART:20210330T120000Z
DTEND:20210330T133000Z
LOCATION:Lecture Room Euler
CONTACT:M. Mirbabayi
URL:https://diploma-clear.ictp.it/courses/weekly-schedule/lecture-room-euler/lecture.2020-12-08.2190647986
CLASS:PUBLIC
END:VEVENT
END:VCALENDAR
