BEGIN:VCALENDAR
PRODID:-//AT Content Types//AT Event//EN
VERSION:2.0
METHOD:PUBLISH
BEGIN:VEVENT
DTSTAMP:20260423T174614Z
CREATED:20200803T104551Z
UID:ATEvent-f154c8db62fd4abf94a735038335fbe2
LAST-MODIFIED:20200803T104551Z
SUMMARY:HEP-PP
DTSTART:20201214T100000Z
DTEND:20201214T113000Z
LOCATION:Lecture Room Euler
CONTACT:A. Smirnov
URL:https://diploma-clear.ictp.it/courses/weekly-schedule/lecture-room-euler/lecture.2020-08-03.5511343712
CLASS:PUBLIC
END:VEVENT
END:VCALENDAR
