BEGIN:VCALENDAR
PRODID:-//AT Content Types//AT Event//EN
VERSION:2.0
METHOD:PUBLISH
BEGIN:VEVENT
DTSTAMP:20260423T235156Z
CREATED:20200530T133738Z
UID:ATEvent-0f8df020cb654323bb3fedc5b178432d
LAST-MODIFIED:20200530T133738Z
SUMMARY:HEP-BH
DTSTART:20200609T090000Z
DTEND:20200609T103000Z
LOCATION:Lecture Room Euler
CONTACT:K. Papadodimas
URL:https://diploma-clear.ictp.it/courses/weekly-schedule/lecture-room-euler/lecture.2020-05-30.8580028456
CLASS:PUBLIC
END:VEVENT
END:VCALENDAR
