BEGIN:VCALENDAR
PRODID:-//AT Content Types//AT Event//EN
VERSION:1.0
BEGIN:VEVENT
DTSTART:20200625T140000Z
DTEND:20200625T153000Z
DCREATED:20200527T134932Z
UID:ATEvent-7428d66d654749bf8f5a7a498e1ec188
SEQUENCE:0
LAST-MODIFIED:20200527T134932Z
SUMMARY:HEP-AQF
LOCATION:Lecture Room Euler
PRIORITY:3
TRANSP:0
END:VEVENT
END:VCALENDAR
