BEGIN:VCALENDAR
PRODID:-//AT Content Types//AT Event//EN
VERSION:2.0
METHOD:PUBLISH
BEGIN:VEVENT
DTSTAMP:20260420T143731Z
CREATED:20200124T144457Z
UID:ATEvent-3104972c190c4d3bb6255445426100aa
LAST-MODIFIED:20200124T144515Z
SUMMARY:HEP-GR
DTSTART:20200122T130000Z
DTEND:20200122T143000Z
LOCATION:Lecture Room Euler
CONTACT:M. Mirbabayi
URL:https://diploma-clear.ictp.it/courses/weekly-schedule/lecture-room-euler/lecture.2020-01-24.0972469231
CLASS:PUBLIC
END:VEVENT
END:VCALENDAR
