BEGIN:VCALENDAR
PRODID:-//AT Content Types//AT Event//EN
VERSION:2.0
METHOD:PUBLISH
BEGIN:VEVENT
DTSTAMP:20260420T143801Z
CREATED:20191115T125129Z
UID:ATEvent-550451adf1b848babb7655c6764ea25e
LAST-MODIFIED:20191115T125129Z
SUMMARY:HEP-GR tut.
DTSTART:20200219T130000Z
DTEND:20200219T143000Z
LOCATION:Lecture Room Euler
CONTACT:M. Celoria
URL:https://diploma-clear.ictp.it/courses/weekly-schedule/lecture-room-euler/lecture.2019-11-15.2895589961
CLASS:PUBLIC
END:VEVENT
END:VCALENDAR
